Workbook

Sheet Title Page
B2: Adult Social Care Infographic Toolkit
B4: Select Council: | C4: Norfolk
B6: Introduction | C6: This spreadsheet provides a toolkit to generate an infographic showing key facts around social care, with local authorities, regions, and England all selectable. Data is the latest available unless specified, and draws from a range of metrics available in LG Inform. All data used in this toolkit can be downloaded from LG Inform Plus by registered users of the service using the link below. Users can edit the output and processing tabs as they wish. Additional data is available in LG Inform and LG Inform plus. All council staff and members can register with LG Inform for free.
B8: Instructions | C8: Users select a council from cell C4 above, which then drives the underlying processes and analysis in the workbook itself. The "Output" tab is the main infographic - selecting "File > Print" gives it in printable format. Changes can be made in the output tab - users can click individual objects in the infographic, all of which are linked to a cell in one of the processing tabs. Some objects may need resizing or reformatting - this can be done manually by users. Additional icons can be used - with credit - from the database hosted by Flaticon (see link below). Icons are made by Freepik.
B9: Link | C9: Freepik Icon Database
B11: Contents | C11: Output - a five page infographic, scaled to fit a printed page. Five processing tabs (Need, Care Users, Finance, Workforce, and Outcomes) which drive the output tab A Datasheet, which powers the processing tabs, with the underlying data drawn from LG Inform. The sources tab gives a full list of LG inform measures used in the infographic. A Calculations tab which drives further elements of the processing tabs. Colour Scheme - the PCH colour scheme with hex codes to allow users to use a consistent colour palette
B13: Feedback | C13: We are currently running a feedback survey for views on this toolkit and other data tools and reports provided by PCH. A link to the feedback survey is in the cell below. Other feedback can be sent to the contact email address below.
C14: Feedback Survey
B16: Contact | C16: pchdata@local.gov.uk
B18: Date of Last Update | C18: 46091
B20: Data Tool Link | C20: Click Here
B22: Data Sources | C22: Publisher | D22: Publication
C23: Care Quality Commission (CQC) | D23: Care directory
C24: Department of Health and Social Care | D24: Adult social care activity report
C25: Department of Health and Social Care | D25: Measures from the Adult Social Care Outcomes Framework
C26: Ministry of Housing, Communities, and Local Government | D26: Revenue Outturn Summary (RS)
C27: Ministry of Housing, Communities, and Local Government | D27: Revenue Outturn: Social Care and Public Health (RO3)
C28: Office for National Statistics | D28: Census
C29: Office for National Statistics | D29: Health and life expectancies
C30: Office for National Statistics | D30: Mid-year estimates
C31: Skills for Care | D31: Adult social care workforce estimates
C32: For a full list, including two figures that are not drawn from LG Inform, see the "Sources" tab

Sheet Output
B1: =Need!K2 -> Need | L1: =Workforce!K2 -> Workforce
F5: =Need!B12 -> Around 536,000 (69%) are aged 18-64
K6: =Workforce!B13 -> The ASC sector in Norfolk has 23,500 employees as of 2024/25
F7: =Need!B13 -> Around 240,000 (31%) are aged 65 and over
A10: =Need!B17 -> Life expectancy for women is 83.6 years, of which 61.1 are expected to be in good health | L10: =Workforce!B15 -> 25,000 filled posts | O10: =Workforce!B17 -> 1,500 vacancies
N11: +
A13: =Need!B16 -> Life expectancy for men is 79.8 years, of which 61.3 are expected to be in good health
A16: Source: ONS
A47: Source: ONS
K48: Source: Skills for Care
B50: ='Care Users'!K2 -> Care Users | L50: =Outcomes!K2 -> Outcomes
A98: Source: DHSC | K98: Source: DHSC
B99: =Finance!K2 -> Finance | K99: Publisher | M99: Publication | O99: Source
K100: Office for National Statistics | M100: Mid-year estimates | O100: Mid-year population estimates
K101: Office for National Statistics | M101: Health and life expectancies | O101: Health and life expectancies
K102: Office for National Statistics | M102: Census | O102: Census
K103: Care Quality Commission (CQC) | M103: Care directory | O103: Care directory data
K104: Ministry of Housing, Communities, and Local Government | M104: Revenue Outturn: Social Care and Public Health (RO3) | O104: Revenue outturn RO3 (2024/25)
K105: Ministry of Housing, Communities, and Local Government | M105: Revenue Outturn Summary (RS) | O105: Revenue outturn summary RS (2024/25)
K106: Department of Health and Social Care | M106: Adult social care activity report | O106: Adult social care activity report (2024/25)
K107: Skills for Care | M107: Adult social care workforce estimates | O107: State of the sector report 2025
K108: Department of Health and Social Care | M108: Measures from the Adult Social Care Outcomes Framework | O108: Adult Social Care Outcomes Framework (2024/25)
K110: Additionally, the default infographic contains two figures that are not drawn from LG Inform:
K112: Quote | M112: Source | O112: Source
K113: "Adult social care contributed an estimated £77.8 billion to the economy in England in 2024/25" | M113: Skills for Care | O113: State of the sector report 2025
K114: "Unpaid carer support is estimated to be worth £152 billion per year in England" | M114: Carers UK | O114: Valuing Carers 2021/22
A144: Source: MHCLG

Sheet Audit
A1: WORKBOOK AUDIT & REVAMP PLAN
A2: Adult Social Care Infographic Toolkit | Audit snapshot: 3 September 2026
A4: EXECUTIVE SUMMARY
A5: The workbook has a sound high-level separation between user output, processing, source data and calculations. The selected Norfolk output currently calculates without visible formula errors; however, the shared calculation engine contains failures for other authorities. Reliability and quality assurance should therefore be completed before redesigning the infographic. No workbook changes were made during the audit itself.
A7: AUDIT SNAPSHOT
A8: Measure | B8: Result | C8: Scope / Location | D8: Status | E8: Why it matters | F8: Reference
A9: Workbook structure | B9: 14 sheets | C9: Entire workbook | D9: Established | E9: Clear separation exists, but navigation can be simplified. | F9: Workbook tabs
A10: Source coverage | B10: 168 populated rows / 164 area labels | C10: Datasheet!A1:CL169 | D10: Review | E10: The area selector and model cover local authorities, regions and England. | F10: Datasheet!A7:A160
A11: Calculation engine | B11: 6,031 formulas | C11: Calculations!A1:AN169 | D11: High risk | E11: A central formula layer supports all selectable authorities. | F11: Calculations!A1:AN169
A12: Calculation failures | B12: 26 error cells | C12: Calculations!A1:AN169 | D12: Critical | E12: Other authorities can return #VALUE! or #DIV/0! results. | F12: Calculations
A13: Output objects | B13: 8 charts / 148 shapes | C13: Output!A1:S100 | D13: Review | E13: The infographic is highly object-driven and requires consistent naming and accessibility. | F13: Output
A14: Norfolk output | B14: No visible formula errors | C14: Need; Care Users; Finance; Workforce; Outcomes | D14: Current pass | E14: The selected authority works, but this does not validate every selectable area. | F14: Title Page!C4
A16: PRIORITISED FINDINGS
A17: Priority | B17: Area | C17: Finding | D17: Evidence | E17: Recommended action | F17: Phase
A18: Critical | B18: Reliability | C18: The shared calculation layer contains 26 errors for several authorities. | D18: Examples include Birmingham, City of London, Cumberland, Hackney, Isles of Scilly, Slough, Westmorland and Furness, and several ADASS regions. | E18: Handle missing text values and zero denominators explicitly, while preserving genuine missing-data signals. | F18: 1
A19: High | B19: Data structure | C19: Neither the source range nor the calculation range is an Excel Table. | D19: Datasheet!A1:CL169 and Calculations!A1:AN169 are fixed ranges. | E19: Convert the two model ranges into structured Tables and update dependent formulas and validation. | F19: 1–2
A20: High | B20: Accessibility | C20: All 148 objects on Output lack alternative text and titles. | D20: Output contains charts, icons, logos and decorative images with no accessibility metadata. | E20: Add meaningful alternative text to informative objects and identify purely decorative objects consistently. | F20: 3
A21: High | B21: Charts | C21: Chart presentation and naming are inconsistent. | D21: Five of eight charts lack titles; two stacked bars are only about 58 points tall; the name Chart 33 is duplicated. | E21: Rename charts by purpose, add useful titles, standardise legends and number formats, and resize undersized visuals. | F21: 3
A22: Medium | B22: Area selector | C22: The council dropdown uses a fixed source range. | D22: Title Page!C4 is validated against Datasheet!A7:A160. | E22: Bind validation to a dynamic Table column or maintained named range so new areas are included automatically. | F22: 1
A23: Medium | B23: Percentages | C23: Percentage values are represented inconsistently. | D23: Calculations!W90 stores 3.78 with format 0.00, while Calculations!AE90 stores 0.0689 with format 0.00%. | E23: Store all ratios as decimals and apply percentage number formats consistently. | F23: 1
A24: Medium | B24: Compatibility | C24: The model relies on newer functions and retains broken compatibility names. | D24: 82 XLOOKUP formulas, three LET formulas and six error-type legacy names were identified. | E24: Confirm the minimum supported Excel version, test compatibility and remove obsolete names after validation. | F24: 2
A25: Low | B25: Navigation & governance | C25: Visible separator tabs and update records need refinement. | D25: PROCESSING -> and DATA -> are empty; Title Page and Version History were last updated in March 2026. | E25: Simplify tab order, hide technical sheets where appropriate, refresh instructions, sources and version history. | F25: 4
A27: PHASED IMPLEMENTATION PLAN
A28: Phase | B28: Objective | C28: Key actions | D28: Primary sheets | E28: Completion test | F28: Priority
A29: 1 | B29: Reliability and QA | C29: Correct all 26 errors; standardise percentage storage; create dynamic area validation; add checks for missing inputs, duplicate areas, zero denominators and formula errors. | D29: Datasheet; Calculations; Title Page; new Checks sheet | E29: Every selectable area returns intentional values or clearly labelled unavailable data, with no unhandled spreadsheet errors. | F29: First
A30: 2 | B30: Model streamlining | C30: Convert source and calculation ranges to Tables; replace whole-column lookups with structured references; consolidate duplicated presentation formulas; remove obsolete names after testing. | D30: Datasheet; Calculations; five processing sheets | E30: Formula dependencies remain live, ranges expand automatically and recalculation behaviour is unchanged or improved. | F30: Second
A31: 3 | B31: Output redesign | C31: Rebuild the five printable sections with consistent spacing, typography, colours and chart formatting; rename charts; improve accessibility and print behaviour. | D31: Output; Colour Scheme | E31: All pages print consistently, objects do not overlap, charts are legible and meaningful objects have alternative text. | F31: Third
A32: 4 | B32: Governance and usability | C32: Refresh guidance and change history; add source period and refresh metadata; simplify navigation; protect formulas while keeping the selector editable. | D32: Title Page; Version History; Sources; workbook tabs | E32: A new user can select an area, understand provenance, print the output and avoid editing protected model logic. | F32: Fourth
A34: RECOMMENDED IMPLEMENTATION ORDER
A35: 1 | B35: Stabilise | C35: Complete Phase 1 before making visual changes. | D35: This prevents redesign work from concealing model failures. | E35: Deliverable: clean calculation and QA baseline. | F35: Required
A36: 2 | B36: Refactor | C36: Complete Phase 2 using regression checks against Norfolk and a selection of other authority types. | D36: Include unitary, county, London borough, small-area and regional records. | E36: Deliverable: maintainable expandable model. | F36: Required
A37: 3 | B37: Redesign | C37: Apply Phase 3 only after the model passes the checks. | D37: Preserve the five-page printable purpose while simplifying the visual hierarchy. | E37: Deliverable: accessible professional infographic. | F37: Recommended
A38: 4 | B38: Publish | C38: Complete governance, protection and user guidance last. | D38: Record every material change in Version History. | E38: Deliverable: controlled release-ready toolkit. | F38: Recommended
A40: VERIFICATION EVIDENCE
A41: Check | B41: Observed result | C41: Coverage | D41: Interpretation | E41: Follow-up | F41: Status
A42: Area coverage | B42: 168 populated data rows; 164 distinct labels | C42: Datasheet | D42: Source includes local authority and aggregate area records. | E42: Check duplicates and intentional repeated labels during Table conversion. | F42: Observed
A43: Formula coverage | B43: 6,031 formulas | C43: Calculations | D43: The workbook is calculation-heavy and requires regression testing. | E43: Add automated QA indicators before refactoring. | F43: Observed
A44: Errors | B44: 26 formula errors | C44: Calculations | D44: Failures are concentrated in missing/non-numeric inputs and zero denominators. | E44: Resolve individually rather than blanket-wrapping every formula with IFERROR. | F44: Action needed
A45: Charts | B45: 8 charts | C45: Output | D45: Titles, dimensions, names and accessibility are inconsistent. | E45: Apply a chart-by-chart design and number-format audit. | F45: Action needed
A46: Selected area | B46: Norfolk output has no visible formula errors | C46: All five processing sheets and Output | D46: Norfolk is a useful baseline but not sufficient for whole-model assurance. | E46: Regression-test a representative set of areas. | F46: Current pass
...

Sheet Version History
A1: Date | B1: Version | C1: Summary of Changes
A2: 46090 | B2: 1 | C2: File created and uploaded
A3: 46091 | B3: 1.1 | C3: Data sources added in full

Sheet PROCESSING ->

Sheet Need
A1: Area | B1: ='Title Page'!C4 -> Norfolk
J2: Need | K2: =J2 -> Need
A3: Drivers of Demand
A4: Population | B4: 65+, 85+, Growth (disaggregated into age?)
A5: Long term conditions | B5: % with long term condition (sub-group of over 65s), number of people in bad or very bad health
A6: Working Age Care Users | B6: LDs, Mental Health, Growth - something on life expectancy with conditions?
A7: Comorbidities | B7: Anything on increasing complexity and multiple conditions
A8: Unpaid Care | B8: Old data but useable - I think something in census
F10: In comparison to ten years ago…
A11: ="As of "&G11&", there are around " & IF( _xlfn.XLOOKUP(B1,Datasheet!A:A,Datasheet!E:E)>=1000000, ROUND(_xlfn.XLOOKUP(B1,Datasheet!A:A,Datasheet!E:E)/1000000,1) & " million", TEXT(ROUND(_xlfn.XLOOKUP(B1,Datasheet!A:A,Datasheet!E:E),-3),"#,##0") ) & " adults in " & B1 -> As of 2025, there are around 776,000 adults in Norfolk | B11: =A11 -> As of 2025, there are around 776,000 adults in Norfolk | E11: ="Demographic Breakdown,"&Datasheet!D3&" vs "&Datasheet!E3&" - "&B1 -> Demographic Breakdown,2015 vs 2025 - Norfolk | F11: =Datasheet!D3 -> 2015 | G11: =Datasheet!E3 -> 2025 | J11: chart in output tab
A12: ="Around " & IF( _xlfn.XLOOKUP(B1,Datasheet!A:A,Datasheet!G:G)>=1000000, ROUND(_xlfn.XLOOKUP(B1,Datasheet!A:A,Datasheet!G:G)/1000000,1) & " million", TEXT(ROUND(_xlfn.XLOOKUP(B1,Datasheet!A:A,Datasheet!G:G),-3),"#,##0") ) & " (" & TEXT(_xlfn.XLOOKUP(B1,Datasheet!A:A,Calculations!D:D),"0%") & ") are aged 18-64" -> Around 536,000 (69%) are aged 18-64 | B12: =A12 -> Around 536,000 (69%) are aged 18-64 | E12: Population aged 18-64 | F12: =_xlfn.XLOOKUP(B1,Datasheet!A:A,Calculations!J:J) -> 0.70963679 | G12: =_xlfn.XLOOKUP(B1,Datasheet!A:A,Calculations!D:D) -> 0.69105251
A13: ="Around " & IF( _xlfn.XLOOKUP(B1,Datasheet!A:A,Datasheet!I:I)>=1000000, ROUND(_xlfn.XLOOKUP(B1,Datasheet!A:A,Datasheet!I:I)/1000000,1) & " million", TEXT(ROUND(_xlfn.XLOOKUP(B1,Datasheet!A:A,Datasheet!I:I),-3),"#,##0") ) & " (" & TEXT(_xlfn.XLOOKUP(B1,Datasheet!A:A,Calculations!E:E),"0%") & ") are aged 65 and over" -> Around 240,000 (31%) are aged 65 and over | B13: =A13 -> Around 240,000 (31%) are aged 65 and over | E13: Population aged 65+ | F13: =_xlfn.XLOOKUP(B1,Datasheet!A:A,Calculations!K:K) -> 0.29036321 | G13: =_xlfn.XLOOKUP(B1,Datasheet!A:A,Calculations!E:E) -> 0.30894749
E15: ="Life Expectancy in years - "&B1 -> Life Expectancy in years - Norfolk | F15: Healthy Years | G15: Years in Poor Health | H15: TOTAL
A16: ="Life expectancy for men is " & _xlfn.XLOOKUP(B1, Datasheet!A:A, Datasheet!M:M) & " years, of which " & _xlfn.XLOOKUP(B1, Datasheet!A:A, Datasheet!O:O) & " are expected to be in good health" -> Life expectancy for men is 79.8 years, of which 61.3 are expected to be in good health | B16: =A16 -> Life expectancy for men is 79.8 years, of which 61.3 are expected to be in good health | E16: Men | F16: =_xlfn.XLOOKUP(B1, Datasheet!A:A, Datasheet!O:O) -> 61.3 | G16: =_xlfn.XLOOKUP(B1, Datasheet!A:A, Datasheet!M:M)-F16 -> 18.5 | H16: =F16+G16 -> 79.8 | J16: chart in output tab
A17: ="Life expectancy for women is " & _xlfn.XLOOKUP(B1, Datasheet!A:A, Datasheet!N:N) & " years, of which " & _xlfn.XLOOKUP(B1, Datasheet!A:A, Datasheet!P:P) & " are expected to be in good health" -> Life expectancy for women is 83.6 years, of which 61.1 are expected to be in good health | B17: =A17 -> Life expectancy for women is 83.6 years, of which 61.1 are expected to be in good health | E17: Women | F17: =_xlfn.XLOOKUP(B1, Datasheet!A:A, Datasheet!P:P) -> 61.1 | G17: =_xlfn.XLOOKUP(B1, Datasheet!A:A, Datasheet!N:N)-F17 -> 22.5 | H17: =F17+G17 -> 83.6
A18: ="Around "& IF( _xlfn.XLOOKUP(B1,Datasheet!A:A,Datasheet!S:S)>=1000000, ROUND(_xlfn.XLOOKUP(B1,Datasheet!A:A,Datasheet!S:S)/1000000,1) & " million", TEXT(ROUND(_xlfn.XLOOKUP(B1,Datasheet!A:A,Datasheet!S:S),-3),"#,##0") ) & " adults report long term illness or disability - " & TEXT(_xlfn.XLOOKUP(B1, Datasheet!A:A, Datasheet!T:T)/100, "0.0%") & " of the population." -> Around 184,000 adults report long term illness or disability - 20.1% of the population. | B18: =A18 -> Around 184,000 adults report long term illness or disability - 20.1% of the population.
A19: ="Around " & IF( _xlfn.XLOOKUP(B1,Datasheet!A:A,Datasheet!U:U)>=1000000, ROUND(_xlfn.XLOOKUP(B1,Datasheet!A:A,Datasheet!U:U)/1000000,1) & " million", TEXT(ROUND(_xlfn.XLOOKUP(B1,Datasheet!A:A,Datasheet!U:U),-3),"#,##0") ) & " adults report bad or very bad health - " & TEXT(_xlfn.XLOOKUP(B1, Datasheet!A:A, Datasheet!V:V)/100, "0.0%") & " of the population." -> Around 51,000 adults report bad or very bad health - 5.5% of the population. | B19: =A19 -> Around 51,000 adults report bad or very bad health - 5.5% of the population.
A20: ="Around " & IF( _xlfn.XLOOKUP(B1,Datasheet!A:A,Datasheet!Q:Q)>=1000000, ROUND(_xlfn.XLOOKUP(B1,Datasheet!A:A,Datasheet!Q:Q)/1000000,1) & " million", TEXT(ROUND(_xlfn.XLOOKUP(B1,Datasheet!A:A,Datasheet!Q:Q),-3),"#,##0") ) & " adults with a learning disability were supported in " & C2 & " in 2023/24. Around " & IF( _xlfn.XLOOKUP(B1,Datasheet!A:A,Datasheet!R:R)>=1000000, ROUND(_xlfn.XLOOKUP(B1,Datasheet!A:A,Datasheet!R:R)/1000000,1) & " million", TEXT(ROUND(_xlfn.XLOOKUP(B1,Datasheet!A:A,Datasheet!R:R),-3),"#,##0") ) & " (" & TEXT(_xlfn.XLOOKUP(B1, Datasheet!A:A, Calculations!L:L), "0%") & ") were of working age." -> Around 3,000 adults with a learning disability were supported in in 2023/24. Around 2,000 (88%) were of working age. | B20: =A20 -> Around 3,000 adults with a learning disability were supported in in 2023/24. Around 2,000 (88%) were of working age.
A22: ="Around " & IF( _xlfn.XLOOKUP(B1,Datasheet!A:A,Datasheet!W:W)>=1000000, ROUND(_xlfn.XLOOKUP(B1,Datasheet!A:A,Datasheet!W:W)/1000000,1) & " million people", TEXT(ROUND(_xlfn.XLOOKUP(B1,Datasheet!A:A,Datasheet!W:W),-3),"#,##0") ) & " (" & TEXT(_xlfn.XLOOKUP(B1,Datasheet!A:A,Datasheet!L:L)/100,"0.0%") & ") provide some form of unpaid care." -> Around 82,000 (8.9%) provide some form of unpaid care. | B22: =A22 -> Around 82,000 (8.9%) provide some form of unpaid care.
A23: =TEXT(_xlfn.XLOOKUP(B1,Datasheet!A:A,Datasheet!X:X)/100,"0.0%")& " provide up to 20 hours of unpaid care per week." -> 4.6% provide up to 20 hours of unpaid care per week. | B23: =A23 -> 4.6% provide up to 20 hours of unpaid care per week.
A24: =TEXT(_xlfn.XLOOKUP(B1,Datasheet!A:A,Datasheet!Y:Y)/100,"0.0%")& " provide between 20 and 49 hours of unpaid care per week." -> 1.8% provide between 20 and 49 hours of unpaid care per week. | B24: =A24 -> 1.8% provide between 20 and 49 hours of unpaid care per week.
A25: =TEXT(_xlfn.XLOOKUP(B1,Datasheet!A:A,Datasheet!Z:Z)/100,"0.0%")& " provide 50+ hours of unpaid care per week." -> 2.9% provide 50+ hours of unpaid care per week. | B25: =A25 -> 2.9% provide 50+ hours of unpaid care per week.
A28: Total expenditure - public mental health | B28: Some gaps in data, can be split by 18-64 and 65+ | C28: put into finance, if using
A30: Learning disability support in the community | B30: can be split by 18-64 and 65+ | C30: Pull and use here
A32: Could look at those limited a lot v limited a little | C32: pull and use (next to bad/v bad health)
A34: Gap in the employment rate between those with long-term health conditions and the overall employment rate | C34: go into outcomes

Sheet Care Users
A1: Area | B1: ='Title Page'!C4 -> Norfolk
J2: Care Users | K2: =J2 -> Care Users
A3: Who provides?
A4: Market Shares | B4: % of care delivered by independent sector vs local authorities, costs in each
A5: Provider organisations | B5: Numbers, per capita (caseload and genpop), CQC ratings breakdown
A6: Market concentration (share of largest providers) | B6: "…X% of those in residential care are looked after by Y% of providers"
A7: Care home beds | B7: Numbers over time, costs
A8: Care hours delivered | B8: Domiciliary, in Care Homes etc
A9: Provider exits / CQC closures
A12: ="As of "&Datasheet!AC3&", around " & TEXT( _xlfn.XLOOKUP(B1, Calculations!A:A, Calculations!N:N), "0.0%" ) & " of the adult population are receiving long-term care, with " & TEXT( _xlfn.XLOOKUP(B1, Calculations!A:A, Calculations!R:R), "0%" ) & " of those being cared for in the community." -> As of 2024/25, around 2.3% of the adult population are receiving long-term care, with 65% of those being cared for in the community. | B12: =A12 -> As of 2024/25, around 2.3% of the adult population are receiving long-term care, with 65% of those being cared for in the community.
A13: Proportion 18-64s accessing long term support | B13: =_xlfn.XLOOKUP(B1,Calculations!A:A,Calculations!S:S) -> 0.011479782
A14: Proportion over 65s accessing long term support | B14: =_xlfn.XLOOKUP(B1,Calculations!A:A,Calculations!T:T) -> 0.049520234
A16: ="There are " &TEXT(_xlfn.XLOOKUP(B1,Calculations!A:A,Datasheet!AB:AB),"0,000") &" care home beds in "&B1&", " &IF( _xlfn.XLOOKUP(B1,Calculations!A:A,Calculations!M:M)>0, "an increase", "a decrease" ) &" of " &TEXT(ABS( _xlfn.XLOOKUP(B1,Calculations!A:A,Calculations!M:M)), "0.0%" ) &" from 2023/24" -> There are 10,335 care home beds in Norfolk, an increase of 3.2% from 2023/24 | B16: =A16 -> There are 10,335 care home beds in Norfolk, an increase of 3.2% from 2023/24
E17: 18-64 | F17: 65+
A18: ="of the population aged 18–64 (approximately " & TEXT(ROUND(_xlfn.XLOOKUP(B1, Calculations!A:A, Datasheet!AL:AL), -4), "#,##0") & " people) are accessing long-term support from their local authority" -> of the population aged 18–64 (approximately 10,000 people) are accessing long-term support from their local authority | B18: =A18 -> of the population aged 18–64 (approximately 10,000 people) are accessing long-term support from their local authority | D18: In Nursing or Residential Care | E18: =1-E19 -> 0.16815597 | F18: =1-F19 -> 0.44987363 | H18: Charts in output tab
A19: ="of the population aged 65 and over (approximately " & TEXT(ROUND(_xlfn.XLOOKUP(B1, Calculations!A:A, Datasheet!AM:AM), -4), "#,##0") & " people) are accessing long-term support from their local authority" -> of the population aged 65 and over (approximately 10,000 people) are accessing long-term support from their local authority | B19: =A19 -> of the population aged 65 and over (approximately 10,000 people) are accessing long-term support from their local authority | D19: In the Community | E19: =_xlfn.XLOOKUP($B$1,Calculations!$A:$A,Calculations!U:U) -> 0.83184403 | F19: =_xlfn.XLOOKUP($B$1,Calculations!$A:$A,Calculations!V:V) -> 0.55012637
A21: Satisfied with the care and support they receive | B21: =_xlfn.XLOOKUP(B1,Calculations!A:A,Datasheet!AN:AN)/100 -> 0.678 | D21: Chart in output tab
A22: Felt care and support services help them feel safe | B22: =_xlfn.XLOOKUP(B1,Calculations!A:A,Datasheet!CH:CH)/100 -> 0.688

Sheet Finance
A1: Area | B1: ='Title Page'!C4 -> Norfolk
J2: Finance | K2: =J2 -> Finance
A3: Ins and Outs
A5: ="Gross total expenditure equalled £" & IF( _xlfn.XLOOKUP(B1,Datasheet!A:A,Datasheet!AP:AP)>=1000000, ROUND(_xlfn.XLOOKUP(B1,Datasheet!A:A,Datasheet!AP:AP)/1000000,1) & " billion", IF( _xlfn.XLOOKUP(B1,Datasheet!A:A,Datasheet!AP:AP)>=1000, ROUND(_xlfn.XLOOKUP(B1,Datasheet!A:A,Datasheet!AP:AP)/1000,1) & " million", TEXT(ROUND(_xlfn.XLOOKUP(B1,Datasheet!A:A,Datasheet!AP:AP),-3),"#,##0") ) ) & " in 2024/25 in " & B1 -> Gross total expenditure equalled £548.7 million in 2024/25 in Norfolk | B5: =A5 -> Gross total expenditure equalled £548.7 million in 2024/25 in Norfolk
A6: =IF( _xlfn.XLOOKUP(B1,Calculations!A:A,Calculations!W:W)>=0, "An increase of ", "A decrease of " )&TEXT(ABS(_xlfn.XLOOKUP(B1,Calculations!A:A,Calculations!W:W)/100),"0.0%")& " on 2023/24" -> An increase of 6.4% on 2023/24 | B6: =A6 -> An increase of 6.4% on 2023/24
A7: ="Equivalent to £" & ROUND(_xlfn.XLOOKUP(B1, Calculations!A:A, Calculations!AG:AG), 0) & " per adult in the population" -> Equivalent to £707 per adult in the population | B7: =A7 -> Equivalent to £707 per adult in the population
A8: =TEXT(_xlfn.XLOOKUP(B1, Calculations!A:A, Calculations!X:X), "0%") & " of overall Local Authority net revenue expenditure)" -> 62% of overall Local Authority net revenue expenditure) | B8: =A8 -> 62% of overall Local Authority net revenue expenditure)
A9: ="£" & IF( _xlfn.XLOOKUP(B1, Datasheet!A:A, Datasheet!BB:BB) >= 1000000, ROUND(_xlfn.XLOOKUP(B1, Datasheet!A:A, Datasheet!BB:BB) / 1000000, 1) & " billion", IF( _xlfn.XLOOKUP(B1, Datasheet!A:A, Datasheet!BB:BB) >= 1000, ROUND(_xlfn.XLOOKUP(B1, Datasheet!A:A, Datasheet!BB:BB) / 1000, 1) & " million", TEXT(ROUND(_xlfn.XLOOKUP(B1, Datasheet!A:A, Datasheet!BB:BB), -3), "#,##0") ) ) & " was spent on long and short-term care, (" & TEXT(ABS(_xlfn.XLOOKUP(B1, Calculations!A:A, Calculations!AE:AE)), "0.0%") & " " & IF( _xlfn.XLOOKUP(B1, Calculations!A:A, Calculations!AE:AE) >= 0, "increase", "decrease" ) & " on 2023/24), of which " & TEXT(_xlfn.XLOOKUP(B1, Calculations!A:A, Calculations!AF:AF), "0%") & " was spent on older adults" -> £394.6 million was spent on long and short-term care, (6.9% increase on 2023/24), of which 64% was spent on older adults | B9: =A9 -> £394.6 million was spent on long and short-term care, (6.9% increase on 2023/24), of which 64% was spent on older adults | C9: =TEXT(ABS(_xlfn.XLOOKUP(B1, Calculations!A:A, Calculations!AE:AE)), "0.0%") -> 6.9%
A10: LD spend % on Younger Adults | B10: =_xlfn.XLOOKUP(B1,Calculations!A:A,Calculations!Z:Z) -> 0.6206256
A11: Physical Support spend % on Older Adults | B11: =_xlfn.XLOOKUP(B1,Calculations!A:A,Calculations!AB:AB) -> 0.59728166
D12: ="Adult Social Care Income Breakdown - "&B1 -> Adult Social Care Income Breakdown - Norfolk | E12: £ millions | F12: %
A13: ="£" & IF( _xlfn.XLOOKUP(B1,Datasheet!A:A,Datasheet!AU:AU)>=1000000, TEXT(ROUND(_xlfn.XLOOKUP(B1,Datasheet!A:A,Datasheet!AU:AU)/1000000,1),"0.0") & " billion", IF( _xlfn.XLOOKUP(B1,Datasheet!A:A,Datasheet!AU:AU)>=1000, TEXT(ROUND(_xlfn.XLOOKUP(B1,Datasheet!A:A,Datasheet!AU:AU)/1000,1),"0.0") & " million", TEXT(ROUND(_xlfn.XLOOKUP(B1,Datasheet!A:A,Datasheet!AU:AU)*1000,-3),"#,##0") ) ) & " was spent on long-term care (" & TEXT(_xlfn.XLOOKUP(B1,Calculations!A:A,Calculations!AC:AC),"0%") & " of care costs)" -> £379.7 million was spent on long-term care (96% of care costs) | B13: =A13 -> £379.7 million was spent on long-term care (96% of care costs) | D13: Client contributions | E13: =_xlfn.XLOOKUP($B$1,Datasheet!$A:$A,Datasheet!BG:BG)/1000 -> 81.077 | F13: =E13/SUM($E$13:$E$17) -> 0.42018605 | H13: charts in output tab
A14: ="£" & IF( _xlfn.XLOOKUP(B1,Datasheet!A:A,Datasheet!AZ:AZ)>=1000000, TEXT(ROUND(_xlfn.XLOOKUP(B1,Datasheet!A:A,Datasheet!AZ:AZ)/1000000,1),"0.0") & " billion", IF( _xlfn.XLOOKUP(B1,Datasheet!A:A,Datasheet!AZ:AZ)>=1000, TEXT(ROUND(_xlfn.XLOOKUP(B1,Datasheet!A:A,Datasheet!AZ:AZ)/1000,1),"0.0") & " million", TEXT(ROUND(_xlfn.XLOOKUP(B1,Datasheet!A:A,Datasheet!AZ:AZ)*1000,-3),"#,##0") ) ) & " was spent on long-term care (" & TEXT(_xlfn.XLOOKUP(B1,Calculations!A:A,Calculations!AD:AD),"0%") & " of care costs)" -> £14.9 million was spent on long-term care (4% of care costs) | B14: =A14 -> £14.9 million was spent on long-term care (4% of care costs) | D14: Joint arrangements | E14: =_xlfn.XLOOKUP($B$1,Datasheet!$A:$A,Datasheet!BH:BH)/1000 -> 0 | F14: =E14/SUM($E$13:$E$17) -> 0
A15: ="£" & IF( _xlfn.XLOOKUP(B1,Calculations!A:A,Calculations!Y:Y)>=1000000, TEXT(ROUND(_xlfn.XLOOKUP(B1,Calculations!A:A,Calculations!Y:Y)/1000000,1),"0.0") & " billion", IF( _xlfn.XLOOKUP(B1,Calculations!A:A,Calculations!Y:Y)>=1000, TEXT(ROUND(_xlfn.XLOOKUP(B1,Calculations!A:A,Calculations!Y:Y)/1000,1),"0.0") & " million", TEXT(ROUND(_xlfn.XLOOKUP(B1,Calculations!A:A,Calculations!Y:Y)*1000,-3),"#,##0") ) ) & " was spent on people aged 18-64" -> £185.7 million was spent on people aged 18-64 | B15: =A15 -> £185.7 million was spent on people aged 18-64 | D15: BCF | E15: =_xlfn.XLOOKUP($B$1,Datasheet!$A:$A,Datasheet!BI:BI)/1000 -> 37.047 | F15: =E15/SUM($E$13:$E$17) -> 0.19199813
A16: ="£" & IF( _xlfn.XLOOKUP(B1,Calculations!A:A,Calculations!AA:AA)>=1000000, TEXT(ROUND(_xlfn.XLOOKUP(B1,Calculations!A:A,Calculations!AA:AA)/1000000,1),"0.0") & " billion", IF( _xlfn.XLOOKUP(B1,Calculations!A:A,Calculations!AA:AA)>=1000, TEXT(ROUND(_xlfn.XLOOKUP(B1,Calculations!A:A,Calculations!AA:AA)/1000,1),"0.0") & " million", TEXT(ROUND(_xlfn.XLOOKUP(B1,Calculations!A:A,Calculations!AA:AA)*1000,-3),"#,##0") ) ) & " was spent on people aged 65 and over" -> £252.4 million was spent on people aged 65 and over | B16: =A16 -> £252.4 million was spent on people aged 65 and over | D16: NHS Contributions - non-BCF | E16: =_xlfn.XLOOKUP($B$1,Datasheet!$A:$A,Datasheet!BJ:BJ)/1000 -> 72.333 | F16: =E16/SUM($E$13:$E$17) -> 0.37486979
D17: Other | E17: =_xlfn.XLOOKUP($B$1,Datasheet!$A:$A,Datasheet!BK:BK)/1000 -> 2.498 | F17: =E17/SUM($E$13:$E$17) -> 0.012946024
A18: Average spend per person per year accessing adult social care - 18-64 | B18: =_xlfn.XLOOKUP(B1,Datasheet!A:A,Datasheet!BC:BC) -> 29123.64
A19: Average spend per person per year accessing adult social care - 65+ | B19: =_xlfn.XLOOKUP(B1,Datasheet!A:A,Datasheet!BD:BD) -> 18140.69
A20: Average spend per person per year in the population - 18-64 | B20: =_xlfn.XLOOKUP(B1,Datasheet!A:A,Datasheet!BE:BE) -> 346.37
A21: Average spend per person per year in the population - 65+ | B21: =_xlfn.XLOOKUP(B1,Datasheet!A:A,Datasheet!BF:BF) -> 1052.82

Sheet Workforce
A1: Area | B1: ='Title Page'!C4 -> Norfolk
J2: Workforce | K2: =J2 -> Workforce
A3: Who Delivers?
A4: Total workforce size | B4: IND + LA
A5: Vacancy rate
A6: Turnover rate
A7: Zero Hours Contracts
A8: Median hourly pay | B8: Comparison may be too contentious
A9: Pay Comparisons | B9: NLW, Councils, NHS
A10: Demographics
A11: Qualification levels
A13: ="The ASC sector in " & B1 & " has " & _xlfn.LET( _xlpm.employees, _xlfn.XLOOKUP(B1,Datasheet!A:A,Datasheet!BL:BL), _xlpm.sig, ROUND(_xlpm.employees, -(INT(LOG10(_xlpm.employees))-2)), IF( _xlpm.employees>=1000000, TEXT(_xlpm.sig/1000000, "0.##") & " million", TEXT(_xlpm.sig, "#,##0") ) ) & " employees as of "&Datasheet!BL3 -> The ASC sector in Norfolk has 23,500 employees as of 2024/25 | B13: =A13 -> The ASC sector in Norfolk has 23,500 employees as of 2024/25
G14: ="Breakdown of Filled Posts by Sector - "&B1 -> Breakdown of Filled Posts by Sector - Norfolk
A15: =_xlfn.LET( _xlpm.filledposts, _xlfn.XLOOKUP(B1,Datasheet!A:A,Datasheet!BM:BM), _xlpm.sig, ROUND(_xlpm.filledposts, -(INT(LOG10(_xlpm.filledposts))-2)), IF( _xlpm.filledposts>=1000000, TEXT(_xlpm.sig/1000000, "0.##") & " million", TEXT(_xlpm.sig, "#,##0") ) ) & " filled posts" -> 25,000 filled posts | B15: =A15 -> 25,000 filled posts | E15: Local Authority | F15: =_xlfn.XLOOKUP(B1,Datasheet!A:A,Datasheet!BO:BO) -> 21500 | G15: =F15/(F15+F16) -> 0.86 | J15: chart in output tab
B16: + | E16: Independent | F16: =_xlfn.XLOOKUP(B1,Datasheet!A:A,Datasheet!BP:BP) -> 3500 | G16: =F16/(F15+F16) -> 0.14
A17: =_xlfn.LET( _xlpm.vacancies, _xlfn.XLOOKUP(B1,Datasheet!A:A,Datasheet!BN:BN), _xlpm.sig, ROUND(_xlpm.vacancies, -(INT(LOG10(_xlpm.vacancies))-2)), IF( _xlpm.vacancies>=1000000, TEXT(_xlpm.sig/1000000, "0.##") & " million", TEXT(_xlpm.sig, "#,##0") ) ) & " vacancies" -> 1,500 vacancies | B17: =A17 -> 1,500 vacancies
A19: =_xlfn.XLOOKUP(B1,Datasheet!A:A,Datasheet!BT:BT)&"% Part Time" -> 50% Part Time | B19: =A19 -> 50% Part Time
A20: =_xlfn.XLOOKUP(B1,Datasheet!A:A,Datasheet!BQ:BQ)&"% Female" -> 78% Female | B20: =A20 -> 78% Female
A21: =_xlfn.XLOOKUP(B1,Calculations!A:A,Calculations!AM:AM)&"% from an ethnic minority background" -> 20% from an ethnic minority background | B21: =A21 -> 20% from an ethnic minority background
A22: =_xlfn.XLOOKUP(B1,Calculations!A:A,Calculations!AL:AL)&"% non-British" -> 24% non-British | B22: =A22 -> 24% non-British
A23: ="Average Age of "&_xlfn.XLOOKUP(B1,Datasheet!A:A,Datasheet!BU:BU) -> Average Age of 44 | B23: =A23 -> Average Age of 44
A25: =TEXT( _xlfn.XLOOKUP(B1,Calculations!A:A,Calculations!AH:AH), "0%" ) & " direct care" & CHAR(10) & TEXT( _xlfn.XLOOKUP(B1,Datasheet!A:A,Datasheet!BW:BW), "#,##0" ) & " posts in a direct care role" -> 68% direct care 17,000 posts in a direct care role | B25: =A25 -> 68% direct care 17,000 posts in a direct care role
A26: =TEXT( _xlfn.XLOOKUP(B1,Calculations!A:A,Calculations!AI:AI), "0%" ) & " managerial" & CHAR(10) & TEXT( _xlfn.XLOOKUP(B1,Datasheet!A:A,Datasheet!BX:BX), "#,##0" ) & " posts in a managerial role" -> 8% managerial 2,100 posts in a managerial role | B26: =A26 -> 8% managerial 2,100 posts in a managerial role
A27: =TEXT( _xlfn.XLOOKUP(B1,Calculations!A:A,Calculations!AJ:AJ), "0%" ) & " regulated professionals" & CHAR(10) & TEXT( _xlfn.XLOOKUP(B1,Datasheet!A:A,Datasheet!BY:BY), "#,##0" ) & " Registered nurses, Social workers, Occupational therapists" -> 4% regulated professionals 1,100 Registered nurses, Social workers, Occupational therapists | B27: =A27 -> 4% regulated professionals 1,100 Registered nurses, Social workers, Occupational therapists
A28: =TEXT( _xlfn.XLOOKUP(B1,Calculations!A:A,Calculations!AK:AK), "0%" ) & " other roles" & CHAR(10) & TEXT( _xlfn.XLOOKUP(B1,Datasheet!A:A,Datasheet!BZ:BZ), "#,##0" ) & " Administrators, HR, Finance and Training roles" -> 20% other roles 4,900 Administrators, HR, Finance and Training roles | B28: =A28 -> 20% other roles 4,900 Administrators, HR, Finance and Training roles

Sheet Outcomes
A1: Area | B1: ='Title Page'!C4 -> Norfolk
J2: Outcomes | K2: =J2 -> Outcomes
A3: ASCOF | C3: total | D3: 18-64 | E3: 65+
A4: Quality of life measures | C4: 10668 | D4: 27492 | E4: 11107
A5: People feeling in control of daily life | C5: 10669 | E5: 11169
A6: Social isolation metrics
A7: Carer-reported quality of life | C7: 10671 | E7: 11168 | G7: No of carers supportedf by LA during year - 11314
A8: Reablement effectiveness (still at home 91 days post-discharge)
A9: Delayed discharges attributable to social care
A10: Safeguarding activity | C10: 10689 | E10: 11170
A11: CQC quality ratings distribution | C11: 27544
B15: ="All adults in " & B1 -> All adults in Norfolk | C15: ="All carers in " & B1 -> All carers in Norfolk
A16: ="Out of 24, " & B1 & " reports an average social care-related quality of life score of "&_xlfn.XLOOKUP(B1,Datasheet!A:A,Datasheet!CA:CA) -> Out of 24, Norfolk reports an average social care-related quality of life score of 19.1 | B16: =A16 -> Out of 24, Norfolk reports an average social care-related quality of life score of 19.1 | C16: =_xlfn.XLOOKUP($B$1,Datasheet!A:A,Datasheet!CA:CA) -> 19.1
A17: ="For those aged between 18 and 64 in " & B1 & ", this score sits at "&_xlfn.XLOOKUP(B1,Datasheet!A:A,Datasheet!CB:CB) -> For those aged between 18 and 64 in Norfolk, this score sits at 18.8 | B17: =A17 -> For those aged between 18 and 64 in Norfolk, this score sits at 18.8 | C17: =_xlfn.XLOOKUP($B$1,Datasheet!A:A,Datasheet!CB:CB) -> 18.8
A18: ="For those aged 65+ in " & B1 & ", this score sits at "&_xlfn.XLOOKUP(B1,Datasheet!A:A,Datasheet!CC:CC) -> For those aged 65+ in Norfolk, this score sits at 19.2 | B18: =A18 -> For those aged 65+ in Norfolk, this score sits at 19.2 | C18: =_xlfn.XLOOKUP($B$1,Datasheet!A:A,Datasheet!CC:CC) -> 19.2
A20: ="In " & B1 & ", " &_xlfn.XLOOKUP(B1,Datasheet!A:A,Datasheet!CD:CD) & "% of people feel they have control over their daily life" -> In Norfolk, 77.4% of people feel they have control over their daily life | B20: =A20 -> In Norfolk, 77.4% of people feel they have control over their daily life
A21: ="In " & B1 & ", " &_xlfn.XLOOKUP(B1,Datasheet!A:A,Datasheet!CE:CE) & "% of people aged 65+ have control over their daily life" -> In Norfolk, 75.3% of people aged 65+ have control over their daily life | B21: =A21 -> In Norfolk, 75.3% of people aged 65+ have control over their daily life
A23: ="Out of 12, " & B1 & " reports an average quality of life score for carers of "&_xlfn.XLOOKUP(B1,Datasheet!A:A,Datasheet!CF:CF) -> Out of 12, Norfolk reports an average quality of life score for carers of 7.2 | B23: =A23 -> Out of 12, Norfolk reports an average quality of life score for carers of 7.2 | C23: =_xlfn.XLOOKUP($B$1,Datasheet!A:A,Datasheet!CF:CF) -> 7.2
A24: ="Amongst carers who are 65+ in " & $B$1 & ", the quality of life score sits at "&_xlfn.XLOOKUP($B$1,Datasheet!A:A,Datasheet!CG:CG) -> Amongst carers who are 65+ in Norfolk, the quality of life score sits at 7.4 | B24: =A24 -> Amongst carers who are 65+ in Norfolk, the quality of life score sits at 7.4 | C24: =_xlfn.XLOOKUP($B$1,Datasheet!A:A,Datasheet!CG:CG) -> 7.4
A26: ="Amongst all adults using services in " & $B$1 & ", " & TEXT(_xlfn.XLOOKUP($B$1,Datasheet!A:A,Datasheet!CH:CH),"0.0") & "% feel safe" -> Amongst all adults using services in Norfolk, 68.8% feel safe | B26: =A26 -> Amongst all adults using services in Norfolk, 68.8% feel safe
A27: ="Amongst all adults aged 65+ using services in " & $B$1 & ", " & TEXT(_xlfn.XLOOKUP($B$1,Datasheet!A:A,Datasheet!CI:CI),"0.0") & "% feel safe" -> Amongst all adults aged 65+ using services in Norfolk, 73.2% feel safe | B27: =A27 -> Amongst all adults aged 65+ using services in Norfolk, 73.2% feel safe
A29: ="In " & $B$1 & ", "&_xlfn.XLOOKUP($B$1,Datasheet!A:A,Datasheet!CJ:CJ) & "% of care homes are rated as good or outstanding by the CQC" -> In Norfolk, 66.4% of care homes are rated as good or outstanding by the CQC | B29: =A29 -> In Norfolk, 66.4% of care homes are rated as good or outstanding by the CQC
A31: ="In " & $B$1 & ", " & TEXT( _xlfn.XLOOKUP( $B$1, Datasheet!A:A, Datasheet!CL:CL ), "#,##0" ) & " carers are supported by the local authority" -> In Norfolk, 3,805 carers are supported by the local authority | B31: =A31 -> In Norfolk, 3,805 carers are supported by the local authority
A32: ="This is " & IF( _xlfn.XLOOKUP(B1, Calculations!A:A, Calculations!AN:AN) > 0, "an increase", "a decrease" ) & " of " & TEXT( ABS(_xlfn.XLOOKUP( B1, Calculations!A:A, Calculations!AN:AN )), "0.0%" ) & " on the previous year" -> This is a decrease of 2.6% on the previous year | B32: =A32 -> This is a decrease of 2.6% on the previous year

Sheet DATA ->

Sheet Datasheet
A1: area label | B1: area long label | C1: area | D1: Population aged 18+ | E1: Population aged 18+ | F1: Population aged 18-64 (count) | G1: Population aged 18-64 (count) | H1: Population aged 65 and over | I1: Population aged 65 and over | J1: Population aged 85+ | K1: Population aged 85+ | L1: No. of residents providing of 1 hour+ unpaid care per week (per 100.0 people) | M1: Life expectancy at birth (3-year) - male | N1: Life expectancy at birth (3-year) - female | O1: Healthy life expectancy at birth (3-year) - male | P1: Healthy life expectancy at birth (3-year) - female | Q1: People with a learning disability, total supported, 18+ | R1: People with a learning disability, total supported, 18-64 | S1: No. of residents with long term illness or disability | T1: % of residents with long term illness or disability | U1: No. of residents in bad or very bad health | V1: % of residents in bad or very bad health | W1: No. of residents providing of 1 hour+ unpaid care per week | X1: % of residents that provides 1 to 19 hours unpaid care a week | Y1: % of residents that provides 20 to 49 hours unpaid care a week | Z1: % of residents that provides 50+ hours unpaid care a week | AA1: Care home beds | AB1: Care home beds | AC1: Clients in long-term support | AD1: Clients accessing community care during the year aged 18-64 and in receipt of direct payments | AE1: Clients accessing community care during the year aged 18-64 and in receipt of CASSR managed personal budget | AF1: Clients accessing community care during the year aged 18-64 and in receipt of CASSR commissioned support | AG1: Clients accessing community care during the year aged 18-64 - Unknown services | AH1: Clients accessing community care during the year aged 65+ and in receipt of direct payments | AI1: Clients accessing community care during the year aged 65+ and in receipt of CASSR managed personal budget | AJ1: Clients accessing community care during the year aged 65+ and in receipt of CASSR commissioned support | AK1: Clients accessing community care during the year aged 65+ - Unknown services | AL1: Clients accessing LT care during the year aged 18-64 | AM1: Clients accessing LT care during the year aged 65+ | AN1: 1D Overall satisfaction of adults with their care and support | AO1: Gross Current Expenditure on adult social care | AP1: Gross Current Expenditure on adult social care | AQ1: Net Current Expenditure - TOTAL ADULT SOCIAL CARE | AR1: NET REVENUE EXPENDITURE (total of lines 800 to 804) (RS) | AS1: Gross Current Expenditure on long term care for clients aged 18 to 64 | AT1: Gross Current Expenditure on long term care for clients aged 65+ | AU1: Gross Current Expenditure on long term care for all clients | AV1: Gross Current Expenditure on short term care for clients aged 18 to 64 | AW1: Gross current expenditure on long and short term learning disability support, 18 to 64 | AX1: Gross Current Expenditure on short term care for clients aged 65+ | AY1: Gross total expenditure on all social care with physical support for adult aged 65+ | AZ1: Gross Current Expenditure on short term care for all clients | BA1: Gross Current Expenditure on long and short term care | BB1: Gross Current Expenditure on long and short term care | BC1: Spend on long and short term care per long-term client, aged 18-64 | BD1: Spend on long and short term care per long-term client, aged 65+ | BE1: Spend on long and short term care per person, aged 18-64 | BF1: Spend on long and short term care per person, aged 65+ | BG1: Adult social care income from client contributions | BH1: Adult social care income from joint arrangements | BI1: Income from Better Care Fund | BJ1: Adult social care income from NHS | BK1: Adult social care income from other sources | BL1: No. of ASC employees, all sectors, all services | BM1: Filled ASC posts, LA and independent sectors | BN1: No. of ASC vacancies, all sectors, all services | BO1: Filled ASC posts, independent sector | BP1: Filled ASC posts, LA sector | BQ1: % ASC workforce that are female, all sectors | BR1: % ASC workforce that are EU (non-British) | BS1: % ASC workforce that are Non-EU | BT1: % Part time ASC jobs, all sectors | BU1: Avg. age of ASC workforce | BV1: % ASC workforce - White Ethnic Group, all sectors | BW1: Filled ASC posts, direct care role | BX1: Filled ASC posts, managerial role | BY1: Filled ASC posts, regulated professional role | BZ1: Filled ASC posts, other role | CA1: 1A Social care-related quality of life (score out of 24) | CB1: Social care-related quality of life for adults aged 18-64 (score out of 24) | CC1: Social care-related quality of life for adults aged 65+ (score out of 24) | CD1: 3A % adults with control over their daily life | CE1: % adults with control over their daily life, 65+ | CF1: 1C Quality of life of carers (score out of 12) | CG1: Quality of life of carers aged 65+ (score out of 12) | CH1: 4A % adults who use services who feel safe | CI1: % adults who use services who feel safe, 65+ | CJ1: 6B % care homes rated good or outstanding by CQC | CK1: Number of carers supported by LA during the year | CL1: Number of carers supported by LA during the year
A2: area label | B2: area long label | C2: area | D2: 173 | E2: 173 | F2: 175 | G2: 175 | H2: 106 | I2: 106 | J2: 3287 | K2: 3287 | L2: 3326M/3281M*100.0N | M2: 95 | N2: 96 | O2: 3155 | P2: 3156 | Q2: 24773 | R2: 24756 | S2: 3324 | T2: 3325 | U2: 3323 | V2: 3322 | W2: 3326 | X2: 1973 | Y2: 1974 | Z2: 1975 | AA2: 13100 | AB2: 13100 | AC2: 11494 | AD2: 11341 | AE2: 11343 | AF2: 11344 | AG2: 27414 | AH2: 11349 | AI2: 11351 | AJ2: 11352 | AK2: 27416 | AL2: 11312 | AM2: 11313 | AN2: 10680 | AO2: 11369 | AP2: 11369 | AQ2: 7778 | AR2: 7068 | AS2: 11370 | AT2: 11371 | AU2: 11372 | AV2: 11373 | AW2: 24711 | AX2: 11374 | AY2: 6978 | AZ2: 11375 | BA2: 11376 | BB2: 11376 | BC2: 11534 | BD2: 11535 | BE2: 11530 | BF2: 11533 | BG2: 11359 | BH2: 11360 | BI2: 11497 | BJ2: 11361 | BK2: 11362 | BL2: 19246 | BM2: 22284 | BN2: 19256 | BO2: 22280 | BP2: 22281 | BQ2: 19282 | BR2: 19288 | BS2: 19289 | BT2: 19204 | BU2: 19283 | BV2: 25578 | BW2: 22285 | BX2: 22286 | BY2: 22288 | BZ2: 22287 | CA2: 10668 | CB2: 27492 | CC2: 11107 | CD2: 10669 | CE2: 11169 | CF2: 10671 | CG2: 11168 | CH2: 10689 | CI2: 11170 | CJ2: 27544 | CK2: 11314 | CL2: 11314
A3: area label | B3: area long label | C3: area | D3: 2015 | E3: 2025 | F3: 2015 | G3: 2025 | H3: 2015 | I3: 2025 | J3: 2015 | K3: 2025 | L3: 2021 | M3: 2022-24 | N3: 2022-24 | O3: 2022-24 | P3: 2022-24 | Q3: 2023/24 | R3: 2023/24 | S3: 2021 | T3: 2021 | U3: 2021 | V3: 2021 | W3: 2021 | X3: 2021 | Y3: 2021 | Z3: 2021 | AA3: 45870 | AB3: 46235 | AC3: 2024/25 | AD3: 2024/25 | AE3: 2024/25 | AF3: 2024/25 | AG3: 2024/25 | AH3: 2024/25 | AI3: 2024/25 | AJ3: 2024/25 | AK3: 2024/25 | AL3: 2024/25 | AM3: 2024/25 | AN3: 2024/25 | AO3: 2024/25 | AP3: 2025/26 | AQ3: 2025/26 | AR3: 2025/26 | AS3: 2025/26 | AT3: 2025/26 | AU3: 2024/25 | AV3: 2025/26 | AW3: 2024/25 | AX3: 2025/26 | AY3: 2024/25 | AZ3: 2024/25 | BA3: 2023/24 | BB3: 2024/25 | BC3: 2024/25 | BD3: 2024/25 | BE3: 2025/26 | BF3: 2025/26 | BG3: 2025/26 | BH3: 2025/26 | BI3: 2025/26 | BJ3: 2025/26 | BK3: 2025/26 | BL3: 2024/25 | BM3: 2024/25 | BN3: 2024/25 | BO3: 2024/25 | BP3: 2024/25 | BQ3: 2024/25 | BR3: 2024/25 | BS3: 2024/25 | BT3: 2024/25 | BU3: 2024/25 | BV3: 2024/25 | BW3: 2024/25 | BX3: 2024/25 | BY3: 2024/25 | BZ3: 2024/25 | CA3: 2024/25 | CB3: 2024/25 | CC3: 2024/25 | CD3: 2024/25 | CE3: 2024/25 | CF3: 2023/24 | CG3: 2023/24 | CH3: 2024/25 | CI3: 2024/25 | CJ3: 2024/25 | CK3: 2022/23 | CL3: 2023/24
A4: area label | B4: area long label | C4: area | D4: cal_2015 | E4: cal_2025 | F4: cal_2015 | G4: cal_2025 | H4: cal_2015 | I4: cal_2025 | J4: cal_2015 | K4: cal_2025 | L4: cen_2021 | M4: threeyp_2022_24 | N4: threeyp_2022_24 | O4: threeyp_2022_24 | P4: threeyp_2022_24 | Q4: fin_2023_24 | R4: fin_2023_24 | S4: cen_2021 | T4: cen_2021 | U4: cen_2021 | V4: cen_2021 | W4: cen_2021 | X4: cen_2021 | Y4: cen_2021 | Z4: cen_2021 | AA4: Month_2025_August | AB4: Month_2026_August | AC4: fin_2024_25 | AD4: fin_2024_25 | AE4: fin_2024_25 | AF4: fin_2024_25 | AG4: fin_2024_25 | AH4: fin_2024_25 | AI4: fin_2024_25 | AJ4: fin_2024_25 | AK4: fin_2024_25 | AL4: fin_2024_25 | AM4: fin_2024_25 | AN4: fin_2024_25 | AO4: fin_2024_25 | AP4: fin_2025_26 | AQ4: fin_2025_26 | AR4: fin_2025_26 | AS4: fin_2025_26 | AT4: fin_2025_26 | AU4: fin_2024_25 | AV4: fin_2025_26 | AW4: fin_2024_25 | AX4: fin_2025_26 | AY4: fin_2024_25 | AZ4: fin_2024_25 | BA4: fin_2023_24 | BB4: fin_2024_25 | BC4: fin_2024_25 | BD4: fin_2024_25 | BE4: fin_2025_26 | BF4: fin_2025_26 | BG4: fin_2025_26 | BH4: fin_2025_26 | BI4: fin_2025_26 | BJ4: fin_2025_26 | BK4: fin_2025_26 | BL4: fin_2024_25 | BM4: fin_2024_25 | BN4: fin_2024_25 | BO4: fin_2024_25 | BP4: fin_2024_25 | BQ4: fin_2024_25 | BR4: fin_2024_25 | BS4: fin_2024_25 | BT4: fin_2024_25 | BU4: fin_2024_25 | BV4: fin_2024_25 | BW4: fin_2024_25 | BX4: fin_2024_25 | BY4: fin_2024_25 | BZ4: fin_2024_25 | CA4: fin_2024_25 | CB4: fin_2024_25 | CC4: fin_2024_25 | CD4: fin_2024_25 | CE4: fin_2024_25 | CF4: bifin_2023_24 | CG4: bifin_2023_24 | CH4: fin_2024_25 | CI4: fin_2024_25 | CJ4: fin_2024_25 | CK4: fin_2022_23 | CL4: fin_2023_24
A5: area label | B5: area long label | C5: area | D5: People | E5: People | F5: People | G5: People | H5: People | I5: People | J5: People | K5: People | L5: % | M5: Years | N5: Years | O5: Years | P5: Years | Q5: % | R5: Count | S5: People | T5: % | U5: People | V5: % | W5: People | X5: % | Y5: % | Z5: % | AA5: Count | AB5: Count | AC5: Count | AD5: Count | AE5: Count | AF5: Count | AG5: Count | AH5: Count | AI5: Count | AJ5: Count | AK5: Count | AL5: Count | AM5: Count | AN5: % | AO5: GBP (000s) | AP5: GBP (000s) | AQ5: GBP (000s) | AR5: GBP (000s) | AS5: GBP (000s) | AT5: GBP (000s) | AU5: GBP (000s) | AV5: GBP (000s) | AW5: GBP (000s) | AX5: GBP (000s) | AY5: GBP (000s) | AZ5: GBP (000s) | BA5: GBP (000s) | BB5: GBP (000s) | BC5: GBP per person | BD5: GBP per person | BE5: GBP per person | BF5: GBP per person | BG5: GBP (000s) | BH5: GBP (000s) | BI5: GBP (000s) | BJ5: GBP (000s) | BK5: GBP (000s) | BL5: People | BM5: Count | BN5: Count | BO5: Count | BP5: Count | BQ5: % | BR5: % | BS5: % | BT5: % | BU5: Mean | BV5: % | BW5: Count | BX5: Count | BY5: Count | BZ5: Count | CA5: Score | CB5: Score | CC5: Score | CD5: % | CE5: % | CF5: Score | CG5: Score | CH5: % | CI5: % | CJ5: % | CK5: Count | CL5: Count
A6: area label | B6: area long label | C6: area | D6: raw | E6: raw | F6: raw | G6: raw | H6: raw | I6: raw | J6: raw | K6: raw | L6: raw | M6: raw | N6: raw | O6: raw | P6: raw | Q6: raw | R6: raw | S6: raw | T6: raw | U6: raw | V6: raw | W6: raw | X6: raw | Y6: raw | Z6: raw | AA6: raw | AB6: raw | AC6: raw | AD6: raw | AE6: raw | AF6: raw | AG6: raw | AH6: raw | AI6: raw | AJ6: raw | AK6: raw | AL6: raw | AM6: raw | AN6: raw | AO6: raw | AP6: raw | AQ6: raw | AR6: raw | AS6: raw | AT6: raw | AU6: raw | AV6: raw | AW6: raw | AX6: raw | AY6: raw | AZ6: raw | BA6: raw | BB6: raw | BC6: raw | BD6: raw | BE6: raw | BF6: raw | BG6: raw | BH6: raw | BI6: raw | BJ6: raw | BK6: raw | BL6: raw | BM6: raw | BN6: raw | BO6: raw | BP6: raw | BQ6: raw | BR6: raw | BS6: raw | BT6: raw | BU6: raw | BV6: raw | BW6: raw | BX6: raw | BY6: raw | BZ6: raw | CA6: raw | CB6: raw | CC6: raw | CD6: raw | CE6: raw | CF6: raw | CG6: raw | CH6: raw | CI6: raw | CJ6: raw | CK6: raw | CL6: raw
A7: Barking and Dagenham | B7: Barking and Dagenham (London borough) | C7: E09000002 | D7: 145568 | E7: 172933 | F7: 126242 | G7: 152413 | H7: 19326 | I7: 20520 | J7: 2993 | K7: 2515 | L7: 6.5 | M7: 78.3 | N7: 81.7 | O7: 59.6 | P7: 59 | Q7: 570 | R7: 505 | S7: 28993 | T7: 13.2 | U7: 10667 | V7: 4.9 | W7: 14224 | X7: 2.7 | Y7: 2 | Z7: 2.3 | AA7: 657 | AB7: 657 | AC7: 3135 | AD7: 460 | AE7: 840 | AF7: Suppressed | AG7: Suppressed | AH7: 180 | AI7: 1040 | AJ7: Suppressed | AK7: Suppressed | AL7: 1405 | AM7: 1730 | AN7: 68 | AO7: 92219 | AP7: 109302 | AQ7: 96681 | AR7: 251038 | AS7: 48097 | AT7: 35887 | AU7: 79505 | AV7: 708 | AW7: 26226 | AX7: 1705 | AY7: 17121 | AZ7: 940 | BA7: 74049 | BB7: 80445 | BC7: 31575.09 | BD7: 20856.65 | BE7: 320.22 | BF7: 1831.97 | BG7: 16047 | BH7: 0 | BI7: 10144 | BJ7: 10742 | BK7: 4433 | BL7: 5500 | BM7: 5800 | BN7: 900 | BO7: 5400 | BP7: 400 | BQ7: 66 | BR7: 4 | BS7: 62 | BT7: 26 | BU7: 41 | BV7: 14 | BW7: 4600 | BX7: 550 | BY7: 200 | BZ7: 425 | CA7: 18.8 | CB7: 18.8 | CC7: 18.8 | CD7: 73.9 | CE7: 70.2 | CF7: 7 | CG7: 7 | CH7: 67.4 | CI7: 66.3 | CJ7: 95 | CK7: 970 | CL7: 890
A8: Barnet | B8: Barnet (London borough) | C8: E09000003 | D8: 290672 | E8: 316967 | F8: 238769 | G8: 254412 | H8: 51903 | I8: 62555 | J8: 8045 | K8: 9579 | L8: 7.4 | M8: 82.5 | N8: 85.9 | O8: 62.7 | P8: 61.7 | Q8: 1065 | R8: 935 | S8: 49679 | T8: 12.8 | U8: 15649 | V8: 4 | W8: 28808 | X8: 4.2 | Y8: 1.6 | Z8: 2 | AA8: 3015 | AB8: 3007 | AC8: 5905 | AD8: 715 | AE8: 1305 | AF8: Suppressed | AG8: Suppressed | AH8: 360 | AI8: 2300 | AJ8: Suppressed | AK8: Suppressed | AL8: 2270 | AM8: 3635 | AN8: 62.2 | AO8: 196059 | AP8: 205825 | AQ8: 183218 | AR8: 328572 | AS8: 90945 | AT8: 77977 | AU8: 162581 | AV8: 91 | AW8: 54521 | AX8: 1171 | AY8: 41343 | AZ8: 1819 | BA8: 157601 | BB8: 164400 | BC8: 38224.23 | BD8: 21356.53 | BE8: 357.83 | BF8: 1265.25 | BG8: 26074 | BH8: 0 | BI8: 11751 | BJ8: 13908 | BK8: 3454 | BL8: 7600 | BM8: 9600 | BN8: 550 | BO8: 9200 | BP8: 425 | BQ8: 77 | BR8: 14 | BS8: 45 | BT8: 26 | BU8: 46 | BV8: 26 | BW8: 7300 | BX8: 800 | BY8: 350 | BZ8: 1200 | CA8: 18 | CB8: 18.5 | CC8: 17.7 | CD8: 65.3 | CE8: 60.8 | CF8: 7.3 | CG8: 7.3 | CH8: 66.3 | CI8: 67.1 | CJ8: 81.6 | CK8: 2110 | CL8: 2430
A9: Barnsley | B9: Barnsley (Metropolitan borough) | C9: E08000038 | D9: 189103 | E9: 201434 | F9: 144733 | G9: 149973 | H9: 44370 | I9: 51461 | J9: 5177 | K9: 5986 | L9: 10.1 | M9: 77.2 | N9: 81.1 | O9: 55.2 | P9: 55.3 | Q9: 680 | R9: 585 | S9: 53916 | T9: 22 | U9: 18369 | V9: 7.5 | W9: 24732 | X9: 4.5 | Y9: 2.5 | Z9: 3.7 | AA9: 2243 | AB9: 2262 | AC9: 3915 | AD9: 490 | AE9: Suppressed | AF9: 15 | AG9: 485 | AH9: 170 | AI9: Suppressed | AJ9: Suppressed | AK9: 1275 | AL9: 1170 | AM9: 2745 | AN9: 67.9 | AO9: 110903 | AP9: 124626 | AQ9: 98799 | AR9: 242738 | AS9: 43603 | AT9: 57119 | AU9: 89124 | AV9: 1253 | AW9: 27369 | AX9: 2863 | AY9: 30517 | AZ9: 4213 | BA9: 78189 | BB9: 93337 | BC9: 33850.43 | BD9: 19574.5 | BE9: 299.09 | BF9: 1165.58 | BG9: 25827 | BH9: 0 | BI9: 14436 | BJ9: 14436 | BK9: 957 | BL9: 5600 | BM9: 6000 | BN9: 275 | BO9: 5600 | BP9: 350 | BQ9: 83 | BR9: 1 | BS9: 9 | BT9: 43 | BU9: 43 | BV9: 91 | BW9: 4500 | BX9: 500 | BY9: 175 | BZ9: 850 | CA9: 19.7 | CB9: 20.6 | CC9: 19.2 | CD9: 81 | CE9: 77.4 | CF9: 7.4 | CG9: 7.5 | CH9: 71.8 | CI9: 70.2 | CJ9: 78.3 | CK9: 2430 | CL9: 2140
A10: Bath and North East Somerset | B10: Bath and North East Somerset (Unitary) | C10: E06000022 | D10: 148069 | E10: 165209 | F10: 113062 | G10: 125292 | H10: 35007 | I10: 39917 | J10: 5250 | K10: 5955 | L10: 7.8 | M10: 81.4 | N10: 84.9 | O10: 65.3 | P10: 65.6 | Q10: 520 | R10: 465 | S10: 31778 | T10: 16.4 | U10: 7856 | V10: 4.1 | W10: 14970 | X10: 4.6 | Y10: 1.4 | Z10: 2.1 | AA10: 1714 | AB10: 1900 | AC10: 2370 | AD10: 200 | AE10: 410 | AF10: 145 | AG10: Suppressed | AH10: 60 | AI10: 510 | AJ10: 130 | AK10: Suppressed | AL10: 915 | AM10: 1455 | AN10: 64 | AO10: 91678 | AP10: 98853 | AQ10: 83415 | AR10: 181252 | AS10: 30622 | AT10: 45387 | AU10: 68264 | AV10: 0 | AW10: 21598 | AX10: 0 | AY10: 23371 | AZ10: 1447 | BA10: 68609 | BB10: 69711 | BC10: 33104.92 | BD10: 27092.78 | BE10: 244.41 | BF10: 1137.03 | BG10: 15439 | BH10: 0 | BI10: 11898 | BJ10: 16964 | BK10: 183 | BL10: 3400 | BM10: 4000 | BN10: 250 | BO10: 3300 | BP10: 650 | BQ10: 79 | BR10: 7 | BS10: 20 | BT10: 51 | BU10: 45 | BV10: 76 | BW10: 2600 | BX10: 325 | BY10: 275 | BZ10: 750 | CA10: 19.2 | CB10: 19.6 | CC10: 18.9 | CD10: 87.1 | CE10: 81.6 | CF10: 8.1 | CG10: 8 | CH10: 68 | CI10: 71.5 | CJ10: 79.6 | CK10: 1730 | CL10: 1765
A11: Bedford Borough | B11: Bedford Borough (Unitary) | C11: E06000055 | D11: 131911 | E11: 152618 | F11: 103497 | G11: 118384 | H11: 28414 | I11: 34234 | J11: 4015 | K11: 4903 | L11: 7.7 | M11: 79.6 | N11: 83.9 | O11: 62.5 | P11: 62.7 | Q11: 460 | R11: 415 | S11: 28727 | T11: 15.5 | U11: 8092 | V11: 4.4 | W11: 14332 | X11: 4.3 | Y11: 1.7 | Z11: 2.2 | AA11: 1736 | AB11: 1703 | AC11: 2865 | AD11: 180 | AE11: 640 | AF11: 135 | AG11: Suppressed | AH11: 85 | AI11: 610 | AJ11: 360 | AK11: Suppressed | AL11: 1135 | AM11: 1730 | AN11: 68.5 | AO11: 101917 | AP11: 106409 | AQ11: 92757 | AR11: 187456 | AS11: 45642 | AT11: 42153 | AU11: 84042 | AV11: 26 | AW11: 21117 | AX11: 379 | AY11: 29645 | AZ11: 369 | BA11: 76777 | BB11: 84411 | BC11: 38449.34 | BD11: 23567.05 | BE11: 385.76 | BF11: 1242.39 | BG11: 15106 | BH11: 0 | BI11: 13982 | BJ11: 14005 | BK11: 2 | BL11: 4700 | BM11: 5300 | BN11: 300 | BO11: 4600 | BP11: 750 | BQ11: 79 | BR11: 7 | BS11: 32 | BT11: 43 | BU11: 44 | BV11: 49 | BW11: 4100 | BX11: 450 | BY11: 175 | BZ11: 650 | CA11: 19.4 | CB11: 20.1 | CC11: 18.7 | CD11: 78.7 | CE11: 75.8 | CF11: 7.5 | CG11: 7.5 | CH11: 72.7 | CI11: 72 | CJ11: 69.4 | CK11: 805 | CL11: 680
A12: Bexley | B12: Bexley (London borough) | C12: E09000004 | D12: 185426 | E12: 199643 | F12: 145540 | G12: 156263 | H12: 39886 | I12: 43380 | J12: 5767 | K12: 6582 | L12: 7.8 | M12: 80.3 | N12: 83.5 | O12: 61.9 | P12: 61.1 | Q12: 565 | R12: 490 | S12: 36083 | T12: 14.6 | U12: 10661 | V12: 4.3 | W12: 19284 | X12: 4.1 | Y12: 1.7 | Z12: 2.5 | AA12: 1618 | AB12: 1618 | AC12: 3900 | AD12: 425 | AE12: 580 | AF12: 375 | AG12: Suppressed | AH12: 235 | AI12: 1335 | AJ12: 110 | AK12: Suppressed | AL12: 1525 | AM12: 2375 | AN12: 57.6 | AO12: 95264 | AP12: 102113 | AQ12: 90897 | AR12: 210277 | AS12: 45406 | AT12: 46030 | AU12: 81768 | AV12: 933 | AW12: 24647 | AX12: 1702 | AY12: 30380 | AZ12: 2868 | BA12: 78078 | BB12: 84636 | BC12: 24281.31 | BD12: 20045.05 | BE12: 296.54 | BF12: 1100.32 | BG12: 17476 | BH12: 169 | BI12: 13665 | BJ12: 24972 | BK12: 1783 | BL12: 4500 | BM12: 5200 | BN12: 500 | BO12: 5000 | BP12: 225 | BQ12: 85 | BR12: 7 | BS12: 44 | BT12: 46 | BU12: 47 | BV12: 33 | BW12: 4000 | BX12: 475 | BY12: 200 | BZ12: 550 | CA12: 18.3 | CB12: 19.2 | CC12: 17.7 | CD12: 73.7 | CE12: 70.5 | CF12: 7.7 | CG12: 7.7 | CH12: 67.2 | CI12: 69 | CJ12: 82.1 | CK12: 2000 | CL12: 855
