Workbook
Name AC_gross_in: '[1]Programme Trajectory Input'!$D$101:$K$101
Name AC_net: '[1]Programme Trajectory Input'!$D$105:$K$105
Name Agri_Res_gross_in: '[1]Programme Trajectory Input'!$D$60:$K$60
Name BTR_gross_cum_in: '[1]Programme Trajectory Input'!$D$42
Name CA_ratio: '[2]I;_Assumptions'!$F$27
Name Demo_rebuild_PDR_gross_in: '[1]Programme Trajectory Input'!$D$61:$K$61
Name Ebbsfleet_additionality_factor_in: '[1]Programme Trajectory Input'!$C$90
Name Ebbsfleet_net: '[1]Programme Trajectory Input'!$D$91:$K$91
Name Full_Year_Non_Leap: '[2]I;_Assumptions'!$F$17
Name GBB_gross_cum_in: '[1]Programme Trajectory Input'!$D$43
Name HD_gross_in: '[1]Programme Trajectory Input'!$D$59:$K$59
Name House_price_growth: '[1]Private Baseline Calculation'!$AB$11
Name HtB_additionality_factor_in: '[1]Programme Trajectory Input'!$C$78
Name HtB_gross_in: '[1]Programme Trajectory Input'!$D$76:$K$76
Name Interbank_rate_prev3_q: '[1]Private Baseline Calculation'!$AB$10
Name Lag: '[1]Private Baseline Calculation'!$AB$18
Name Leap_Full_Year: '[2]I;_Assumptions'!$F$16
Name Legacy_additionality_factor_in: '[1]Programme Trajectory Input'!$C$48
Name Legacy_dist_in: '[1]Programme Trajectory Input'!$D$44:$K$44
Name Legacy_gross: '[1]Programme Trajectory Input'!$D$45:$K$45
Name Legacy_net: '[1]Programme Trajectory Input'!$D$50:$K$50
Name LTF_additionality_factor: '[1]Programme Trajectory Input'!$C$34
Name LTF_dist_in: '[1]Programme Trajectory Input'!$D$30:$K$30
Name LTF_gross: '[1]Programme Trajectory Input'!$D$31:$K$31
Name LTF_gross_in: '[1]Programme Trajectory Input'!$D$29
Name LTF_net: '[1]Programme Trajectory Input'!$D$36:$K$36
Name mod_delta_ons_code: '[2]I;_21_Modified_Delta'!$I$10:$I$347
Name mod_delta_ons_codes: '[2]I;_21_Modified_Delta'!$I$10:$I$347
Name mod_delta_pp_trajectories: '[2]I;_21_Modified_Delta'!$MN$10:$NJ$347
Name mod_delta_trajectories: '[2]I;_21_Modified_Delta'!$GZ$10:$HW$347
Name Notes: #REF!
Name Notes: #REF!
Name Notes: #REF!
Name Notes: #REF!
Name Notes: #REF!
Name Plan_out_of_date: '[2]I;_Assumptions'!$E$22
Name Planning_additonality_factor_in: '[1]Programme Trajectory Input'!$C$65
Name Planning_gross: '[1]Programme Trajectory Input'!$D$63:$K$63
Name Planning_net: '[1]Programme Trajectory Input'!$D$67:$K$67
Name Pro_rata_factor: '[1]Programme Trajectory Input'!$D$18
Name Q1_: '[1]Private Baseline Calculation'!$AB$7
Name Q2_: '[1]Private Baseline Calculation'!$AB$8
Name Q3_: '[1]Private Baseline Calculation'!$AB$9
Name STIF_addiitonality_factor: '[1]Programme Trajectory Input'!$C$21
Name STIF_AF: '[1]Programme Trajectory Input'!$C$21
Name STIF_cs_in: '[1]Programme Trajectory Input'!$D$11:$K$11
Name STIF_fs_in: '[1]Programme Trajectory Input'!$D$12:$K$12
Name STIF_gross: '[1]Programme Trajectory Input'!$D$14:$K$14
Name STIF_gross_cum_total_in: '[1]Programme Trajectory Input'!$D$16
Name STIF_gross_cum_total_update_in: '[1]Programme Trajectory Input'!$D$17
Name STIF_net: '[1]Programme Trajectory Input'!$D$23:$K$23
Name Student_ratio: '[2]I;_Assumptions'!$F$26
Name y1_num_days: '[2]I;_Assumptions'!$E$12
Name y1_start: '[2]I;_Assumptions'!$E$10
Name y2_end: '[2]I;_Assumptions'!$G$10
Name y2_num_days: '[2]I;_Assumptions'!$F$12
Name y2_start: '[2]I;_Assumptions'!$F$10
Name y3_num_days: '[2]I;_Assumptions'!$H$12
Name y3_start: '[2]I;_Assumptions'!$H$10
Name y4_start: '[2]I;_Assumptions'!$I$10

Sheet Read Me
A1: Read Me Tab
B3: Sheet No. | C3: Sheet Name | D3: Type | E3: Contents | F3: Source (if rel.) | G3: Date of update | H3: Next date of update
B4: 1 | C4: {=RIGHT(CELL("filename",A1),LEN(CELL("filename",A1))-SEARCH("]",CELL("filename",A1)))} -> Read Me | D4: Contents | E4: Contents | F4: - | G4: - | H4: -
B5: 2 | C5: {=RIGHT(CELL("filename",'User Guide'!A1),LEN(CELL("filename",'User Guide'!A1))-SEARCH("]",CELL("filename",'User Guide'!A1)))} -> User Guide | D5: Instructions | E5: Information on HDT workbook | F5: - | G5: - | H5: -
B6: 3 | C6: {=RIGHT(CELL("filename",Dashboard!A1),LEN(CELL("filename",Dashboard!A1))-SEARCH("]",CELL("filename",Dashboard!A1)))} -> Dashboard | D6: Dashboard | E6: Summary graphs that automatically update with data | F6: - | G6: - | H6: -
B7: 4 | C7: {=RIGHT(CELL("filename",'Calculations (All)'!A1),LEN(CELL("filename",'Calculations (All)'!A1))-SEARCH("]",CELL("filename",'Calculations (All)'!A1)))} -> Calculations (All) | D7: Calculations | E7: Aggregated results on HDT classifications for local authorities | F7: - | G7: - | H7: -
B8: 5 | C8: {=RIGHT(CELL("filename",IndividualLATest!A1),LEN(CELL("filename",IndividualLATest!A1))-SEARCH("]",CELL("filename",IndividualLATest!A1)))} -> IndividualLATest | D8: Calculations | E8: HDT calculation page for individual local authorities | F8: - | G8: - | H8: -
B9: 6 | C9: {=RIGHT(CELL("filename",'Sensitivity Tests'!A1),LEN(CELL("filename",'Sensitivity Tests'!A1))-SEARCH("]",CELL("filename",'Sensitivity Tests'!A1)))} -> Sensitivity Tests | D9: Calculations | E9: HDT calculation page for individual local authorities with sensitivity tests | F9: - | G9: 43698 | H9: N/A
B10: 7 | C10: {=RIGHT(CELL("filename",'Major Cities & Towns'!A13),LEN(CELL("filename",'Major Cities & Towns'!A13))-SEARCH("]",CELL("filename",'Major Cities & Towns'!A13)))} -> Major Cities & Towns | D10: Raw Data | E10: Data on major cities and towns to inform 35% uplift adjustment (2021) | F10: https://www.gov.uk/government/consultations/changes-to-the-current-planning-system/outcome/government-response-to-the-local-housing-need-proposals-in-changes-to-the-current-planning-system | G10: 2019 | H10: N/A
B11: 8 | C11: {=RIGHT(CELL("filename",Hshldprojections2018!A1),LEN(CELL("filename",Hshldprojections2018!A1))-SEARCH("]",CELL("filename",Hshldprojections2018!A1)))} -> Hshldprojections2018 | D11: Raw Data | E11: Household projection data (2018) | F11: https://www.ons.gov.uk/peoplepopulationandcommunity/populationandmigration/populationprojections/bulletins/householdprojectionsforengland/2018based | G11: 2017 | H11: N/A
B12: 9 | C12: {=RIGHT(CELL("filename",Hshldprojections2016!A1),LEN(CELL("filename",Hshldprojections2016!A1))-SEARCH("]",CELL("filename",Hshldprojections2016!A1)))} -> Hshldprojections2016 | D12: Raw Data | E12: Household projection data (2016) | F12: https://www.ons.gov.uk/peoplepopulationandcommunity/populationandmigration/populationprojections/datasets/householdprojectionsforengland | G12: 2015 | H12: N/A
B13: 10 | C13: {=RIGHT(CELL("filename",Hshldprojections2014!A1),LEN(CELL("filename",Hshldprojections2014!A1))-SEARCH("]",CELL("filename",Hshldprojections2014!A1)))} -> Hshldprojections2014 | D13: Raw Data | E13: Household projection data (2014) | F13: https://www.gov.uk/government/statistical-data-sets/live-tables-on-household-projections#based-live-tables | G13: 2021 | H13: 01/03/2022-31/03/2022
B14: 11 | C14: {=RIGHT(CELL("filename",AffordabilityRatio!A1),LEN(CELL("filename",AffordabilityRatio!A1))-SEARCH("]",CELL("filename",AffordabilityRatio!A1)))} -> AffordabilityRatio | D14: Raw Data | E14: Data on affordability ratios (2022) | F14: https://www.ons.gov.uk/peoplepopulationandcommunity/housing/datasets/ratioofhousepricetoworkplacebasedearningslowerquartileandmedian | G14: 2021 | H14: N/A
B15: 12 | C15: {=RIGHT(CELL("filename",NetAdditions!A1),LEN(CELL("filename",NetAdditions!A1))-SEARCH("]",CELL("filename",NetAdditions!A1)))} -> NetAdditions | D15: Raw Data | E15: Data on net additions (2020/21) | F15: https://www.gov.uk/government/statistical-data-sets/live-tables-on-affordable-housing-supply | G15: N/A | H15: N/A
B16: 13 | C16: {=RIGHT(CELL("filename",'local-plan-data'!A1),LEN(CELL("filename",'local-plan-data'!A1))-SEARCH("]",CELL("filename",'local-plan-data'!A1)))} -> local-plan-data | D16: Raw Data | E16: Local plan data (2020) | F16: https://local-plans-prototype.herokuapp.com/ | G16: 43530 | H16: N/A
B17: 14 | C17: {=RIGHT(CELL("filename",UrbanRuralClassification!A1),LEN(CELL("filename",UrbanRuralClassification!A1))-SEARCH("]",CELL("filename",UrbanRuralClassification!A1)))} -> UrbanRuralClassification | D17: Raw Data | E17: Data on urban rural classifications (2011) | F17: https://geoportal.statistics.gov.uk/search?collection=Dataset&sort=name&tags=all(PRD_RUC) | G17: 2021 | H17: N/A
B18: 15 | C18: {=RIGHT(CELL("filename",PoliticalControl!A1),LEN(CELL("filename",PoliticalControl!A1))-SEARCH("]",CELL("filename",PoliticalControl!A1)))} -> PoliticalControl | D18: Raw Data | E18: Data on political control (2021) | F18: Sourced internally from the LGA R&I team
B19: 16 | C19: {=RIGHT(CELL("filename",'HDT 2021 Measurement Results'!A1),LEN(CELL("filename",'HDT 2021 Measurement Results'!A1))-SEARCH("]",CELL("filename",'HDT 2021 Measurement Results'!A1)))} -> HDT 2021 Measurement Results | D19: Raw Data | E19: HDT published results (2021) | F19: https://www.google.com/url?sa=t&rct=j&q=&esrc=s&source=web&cd=&ved=2ahUKEwjkp8K4vub2AhV0oVwKHSWQARsQFnoECAMQAQ&url=https%3A%2F%2Fassets.publishing.service.gov.uk%2Fgovernment%2Fuploads%2Fsystem%2Fuploads%2Fattachment_data%2Ffile%2F1046293%2F2021_HDT_Final_Results_.ods&usg=AOvVaw3ZgZCfISkKUJIdHFMBWTyi
B20: NB: The most recent data as per April 2022 was used. Data may need to be updated over time as per new releases of datasets and/or updates to the Government methodology for HDT delivery.

Sheet User Guide
A1: How to use the HDT calculation tool
A3: Introduction
A4: The Housing Delivery Test (HDT) is one of the government's checks and balances, producing an annual sum on housing delivery, with consequences if not reached. This workbook is a tool to help councils predict their HDT performance, avoid consequences, and forward plan.
A6: The formula
A7: HDT (%) = total net homes delivered over a 3 year period / total number of homes required over a 3 year period
A9: The data
A10: Net homes delivered = data published by the Government based on how Councils record the number of new homes built/created each financial year. This data is produced by Councils and submitted to Government via the Housing Reconcilliation Flow data return undertaken annually. Net homes required = the lower of the following figures is used: 1) a figure set by the council in their local plan OR 2) the minimum local housing need (LHN) is used, which is the government's mathematical formula. This LHN figure will also be used if the council's local plan is out of data (over 5 years old). This figure has been adjusted in response to the COVID-19 pandemic (i.e., 8 month period used for 2020/21 and 11 month for 2019/20).
A12: Minimum Local Housing Need (LHN) calculation
A13: Different components needed to calculate the LHN include: - The projected average annual growth over a 10-year period, based on 2014 housing projections for all test years (but you can change this in the sensitivity testing) - Then we adjust this LHN for affordability ratio – this data has been updated for 2020 data which was the most recent dataset available - Then, where the policy was adopted in the last 5 yrs, the LHN is capped at 40% above the average annual housing requirement figure - This figure is adjusted for the 35% uplift to major cities and towns for relevant local authorities - Then the housing requirement accounts for any local authorities who adopted their plan part way through the year – by apportioning the figure based on the number of days in the year
A15: How to use the tool
A16: 1. In the Individual Test sheet select authority name in D3. This will draw the adoption date of your most recent 'housing requirement'. If you have reviewed your 'housing requirement' and found it not to need updating, specify the date of review in D7. 2. If relevant, councils can manually put in data on predictions about the delivery of student or other communal dwellings in columns O-P of the same sheet. 3. Read off column U of the same sheet to see the HDT result (%) for different financial years. Read off column V to see the required action/status of housing delivery given the result in U.
A18: How to use the sensitivity testing
... A30: Please note that this model is based on published data available at the time of the model’s publication (April 2022). As and when new data releases become available, data will need to be updated. Authorities may wish to edit and change variables contained in this model, which they can do in the sensitivity testing. This model has been built in consultation with the sector, based on the needs of local authorities. Please note that whilst the HDT figures produced are a good estimate, these figures cannot be completely guaranteed and may be subject to a small degree of error.

Sheet Dashboard
A1: Dashboard
B3: ONS Code | D3: =VLOOKUP($D$4,'Calculations (All)'!$B$4:$C$322,2,FALSE) -> E07000223
B4: Select Authority | D4: Adur
B5: Region | D5: =VLOOKUP(D3,'Calculations (All)'!A4:J322,4,FALSE) -> SE
B6: Latest adopted housing requirement 2020/21 | D6: =IF(ISNUMBER(VLOOKUP(D3,'Calculations (All)'!A4:J322,10,FALSE)),VLOOKUP(D3,'Calculations (All)'!A4:J322,10,FALSE),"-") -> 177.04762
B7: Minimum Local Housing Need (LHN) figure 2021/22 | D7: =VLOOKUP(D4,'Calculations (All)'!$B$4:$DB$322,69,FALSE) -> 177.04762
B8: Published HDT measurement 2021 | D8: =VLOOKUP($D$4,'HDT 2021 Measurement Results'!$B$5:$L$300,10,FALSE) -> 0.77
B11: Individual Local Authority Graphs | P11: Regional Benchmarking
B13: Changes in HDT Calculation
P14: Select region | R14: EM | T14: Mean
B15: HDT Year | C15: Per cent | D15: HDT Classification
B16: HDT 2021: HDT 2018/19-2020/21 | C16: =VLOOKUP($D$4,'HDT 2021 Measurement Results'!$B$5:$L$300,10,FALSE) -> 0.77 | D16: =IF(Table4[[#This Row],[Per cent]]<0.45, "Presumption", IF(Table4[[#This Row],[Per cent]]<0.85, "Buffer and Action Plan", IF(Table4[[#This Row],[Per cent]]<0.95, "Action Plan", "Pass"))) -> Buffer and Action Plan
B17: HDT 2022: HDT 2019/20-2021/22 | C17: =VLOOKUP($D$4,'Calculations (All)'!$B$4:$EB$322,102,FALSE) -> 0.72952854 | D17: =VLOOKUP($D$4,'Calculations (All)'!$B$4:$EB$322,103,FALSE) -> Buffer and Action Plan | P17: HDT Year | Q17: Per cent | R17: HDT Classification
B18: HDT 2023: HDT 2020/21-2022/23 | C18: =VLOOKUP($D$4,'Calculations (All)'!$B$4:$EB$322,104,FALSE) -> 0.90935137 | D18: =VLOOKUP($D$4,'Calculations (All)'!$B$4:$EB$322,105,FALSE) -> Action Plan | P18: HDT 2021: HDT 2018/19-2020/21 | Q18: =AVERAGEIF('HDT 2021 Measurement Results'!$M$7:$M$300,$R$14,'HDT 2021 Measurement Results'!$K$7:$K$300) -> 1.4240541 | R18: =IF(Table7[[#This Row],[Per cent]]<0.75, "Presumption", IF(Table7[[#This Row],[Per cent]]<0.85, "Buffer and Action Plan", IF(Table7[[#This Row],[Per cent]]<0.95, "Action Plan", "Pass"))) -> Pass
B19: HDT 2024: HDT 2020/21-2023/24 | C19: =VLOOKUP($D$4,'Calculations (All)'!$B$4:$EB$322,106,FALSE) -> 0.59409439 | D19: =VLOOKUP($D$4,'Calculations (All)'!$B$4:$EB$322,107,FALSE) -> Presumption | P19: HDT 2022: HDT 2019/20-2021/22 | Q19: =AVERAGEIF('Calculations (All)'!$D$5:$D$322,$R$14,'Calculations (All)'!CY5:CY322) -> 1.3542661 | R19: =IF(Table7[[#This Row],[Per cent]]<0.75, "Presumption", IF(Table7[[#This Row],[Per cent]]<0.85, "Buffer and Action Plan", IF(Table7[[#This Row],[Per cent]]<0.95, "Action Plan", "Pass"))) -> Pass
B20: HDT 2025: HDT 2020/21-2024/25 | C20: =VLOOKUP($D$4,'Calculations (All)'!$B$4:$EB$322,108,FALSE) -> 0.55392054 | D20: =VLOOKUP($D$4,'Calculations (All)'!$B$4:$EB$322,109,FALSE) -> Presumption | P20: HDT 2023: HDT 2020/21-2022/23 | Q20: =AVERAGEIF('Calculations (All)'!$D$5:$D$322,$R$14,'Calculations (All)'!DA5:DA322) -> 1.228231 | R20: =IF(Table7[[#This Row],[Per cent]]<0.75, "Presumption", IF(Table7[[#This Row],[Per cent]]<0.85, "Buffer and Action Plan", IF(Table7[[#This Row],[Per cent]]<0.95, "Action Plan", "Pass"))) -> Pass
B21: HDT 2026: HDT 2020/21-2025/26 | C21: =VLOOKUP($D$4,'Calculations (All)'!$B$4:$EB$322,110,FALSE) -> 0.54004127 | D21: =VLOOKUP($D$4,'Calculations (All)'!$B$4:$EB$322,111,FALSE) -> Presumption | P21: HDT 2024: HDT 2020/21-2022/24 | Q21: =AVERAGEIF('Calculations (All)'!$D$5:$D$322,$R$14,'Calculations (All)'!DC7:DC325) -> 1.6807875 | R21: =IF(Table7[[#This Row],[Per cent]]<0.75, "Presumption", IF(Table7[[#This Row],[Per cent]]<0.85, "Buffer and Action Plan", IF(Table7[[#This Row],[Per cent]]<0.95, "Action Plan", "Pass"))) -> Pass
B22: * Please note that the HDT 2021 figure is from published Government data. All other HDT figures are calculated using this model. | P22: HDT 2025: HDT 2020/21-2022/25 | Q22: =AVERAGEIF('Calculations (All)'!$D$5:$D$322,$R$14,'Calculations (All)'!DE8:DE326) -> 1.2131525 | R22: =IF(Table7[[#This Row],[Per cent]]<0.75, "Presumption", IF(Table7[[#This Row],[Per cent]]<0.85, "Buffer and Action Plan", IF(Table7[[#This Row],[Per cent]]<0.95, "Action Plan", "Pass"))) -> Pass
P23: HDT 2026: HDT 2020/21-2022/26 | Q23: =AVERAGEIF('Calculations (All)'!$D$5:$D$322,$R$14,'Calculations (All)'!DG9:DG327) -> 1.8006921 | R23: =IF(Table7[[#This Row],[Per cent]]<0.75, "Presumption", IF(Table7[[#This Row],[Per cent]]<0.85, "Buffer and Action Plan", IF(Table7[[#This Row],[Per cent]]<0.95, "Action Plan", "Pass"))) -> Pass
P24: * Please note that the HDT 2021 regional average is from
H25: Key | P25: published Government figures.
H27: Pass = no action required (HDT >=95%)
H28: Action plan = action plan needed (HDT < 95%)
H29: Buffer and action plan = 20% buffer to housing supply
H30: is needed in addition to action plan (HDT < 85%)
H31: Presumption = presumption in favour of sustainable
H32: development applies in addition to action plan and
H33: 20% buffer (HDT < 75%)
P39: HDT Year | Q39: Selected region | R39: Individual Local Authority
P40: HDT 2021: HDT 2018/19-2020/21 | Q40: =Q18 -> 1.4240541 | R40: =C16 -> 0.77
P41: HDT 2022: HDT 2019/20-2021/22 | Q41: =Q19 -> 1.3542661 | R41: =C17 -> 0.72952854
P42: HDT 2023: HDT 2020/21-2022/23 | Q42: =Q20 -> 1.228231 | R42: =C18 -> 0.90935137
P43: HDT 2024: HDT 2020/21-2022/24 | Q43: =Q21 -> 1.6807875 | R43: =C19 -> 0.59409439
P44: HDT 2025: HDT 2020/21-2022/25 | Q44: =Q22 -> 1.2131525 | R44: =C20 -> 0.55392054
B45: Homes required versus net additional dwellings | P45: HDT 2026: HDT 2020/21-2022/26 | Q45: =Q23 -> 1.8006921 | R45: =C21 -> 0.54004127
B47: Year | C47: Net additional housing | D47: Covid-19 adj. homes required
B48: 2018/19 | C48: =VLOOKUP($D$4,'Calculations (All)'!B:DH,74,FALSE) -> 113 | D48: =VLOOKUP($D$4,'Calculations (All)'!$B$4:$DB$322,88,FALSE) -> 457.37302
B49: 2019/20 | C49: =VLOOKUP($D$4,'Calculations (All)'!B:DH,75,FALSE) -> 13 | D49: =VLOOKUP($D$4,'Calculations (All)'!$B$4:$DB$322,89,FALSE) -> 457.37302
B50: 2020/21 | C50: =VLOOKUP($D$4,'Calculations (All)'!B:DH,76,FALSE) -> 209 | D50: =VLOOKUP($D$4,'Calculations (All)'!$B$4:$DB$322,90,FALSE) -> 474.9417
B51: 2022/23 | C51: =VLOOKUP($D$4,'Calculations (All)'!B:DH,77,FALSE) -> 111.66667 | D51: =VLOOKUP($D$4,'Calculations (All)'!$B$4:$DB$322,91,FALSE) -> 617.49759
...

Sheet Calculations (All)
K1: 43191 | L1: 43556 | M1: 43922 | N1: 44287 | O1: 44652 | P1: 45017 | Q1: 45383 | R1: 45748 | S1: 43191 | T1: 43556 | U1: 43922 | V1: 44287 | W1: 44652 | X1: 45017 | Y1: 45383 | Z1: 45748 | AA1: From this point onwards projections are either 2014 or 2016 and can be changed using the option in the 'individualLATest' sheet | BO1: 43191 | BP1: 43556 | BQ1: 43922 | BR1: 44287 | BS1: 44652 | BT1: 45017 | BU1: 45383 | BV1: 45748 | BW1: 43191 | BX1: 43556 | BY1: 43922 | BZ1: 44287 | CA1: 44652 | CB1: 45017 | CC1: 45383 | CD1: 45748
AA3: =IndividualLATest!$J$7&" projections" -> projections | AB3: =IndividualLATest!$J$7&" projections" -> projections | AC3: =IndividualLATest!$J$7&" projections" -> projections | AD3: =IndividualLATest!$J$7&" projections" -> projections | AE3: =IndividualLATest!$J$7&" projections" -> projections | AF3: =IndividualLATest!$J$7&" projections" -> projections | AG3: =IndividualLATest!$J$7&" projections" -> projections | AH3: =IndividualLATest!$J$7&" projections" -> projections
A4: ONS Code | B4: Local Authority | C4: ONS Code | D4: Region | E4: Political Control | F4: Urban/Rural Classification (narrow) | G4: Urban/Rural Classification (broad) | H4: Plan age | I4: Current local assessment of housing need, based on most recent publically available document (dwellings per annum) | J4: Lower range | K4: plan requirement 2018 | L4: plan requirement 2019 | M4: plan requirement 2020 | N4: plan requirement 2021 | O4: plan requirement 2022 | P4: plan requirement 2023 | Q4: plan requirement 2024 | R4: plan requirement 2025 | S4: Days remaining on plan 2018 | T4: Days remaining on plan 2019 | U4: Days remaining on plan 2020 | V4: Days remaining on plan 2021 | W4: Days remaining on plan 2022 | X4: Days remaining on plan 2023 | Y4: Days remaining on plan 2024 | Z4: Days remaining on plan 2025 | AA4: Hshld change 2018-2028 | AB4: Hshld change 2019-2029 | AC4: Hshld change 2020-2030 | AD4: Hshld change 2021-2031 | AE4: Hshld change 2022-2032 | AF4: Hshld change 2023-2033 | AG4: Hshld change 2024-2034 | AH4: Hshld change 2025-2035 | AI4: Affordability 2018 | AJ4: Affordability 2019 | AK4: Affordability 2020 | AL4: Affordability 2021 | AM4: Affordability 2022 | AN4: Affordability 2023 | AO4: Affordability 2024 | AP4: Affordability 2025 | AQ4: Minimum LHN 2018 | AR4: Minimum LHN 2019 | AS4: Minimum LHN 2020 | AT4: Minimum LHN 2021 | AU4: Minimum LHN 2022 | AV4: Minimum LHN 2023 | AW4: Minimum LHN 2024 | AX4: Minimum LHN 2025 | AY4: Capped LHN 2018 | AZ4: Capped LHN 2019 | BA4: Capped LHN 2020 | BB4: Capped LHN 2021 | BC4: Capped LHN 2022 | BD4: Capped LHN 2023 | BE4: Capped LHN 2024 | BF4: Capped LHN 2025 | BG4: Post-cap 35% uplift for relevant authorities 2018 | BH4: Post-cap 35% uplift for relevant authorities 2019 | BI4: Post-cap 35% uplift for relevant authorities 2020 | BJ4: Post-cap 35% uplift for relevant authorities 2021 | BK4: Post-cap 35% uplift for relevant authorities 2022 | BL4: Post-cap 35% uplift for relevant authorities 2023 | BM4: Post-cap 35% uplift for relevant authorities 2024 | BN4: Post-cap 35% uplift for relevant authorities 2025 | BO4: Apportioned LHN figure 2018 | BP4: Apportioned LHN figure 2019 | BQ4: Apportioned LHN figure 2020 | BR4: Apportioned LHN figure 2021 | BS4: Apportioned LHN figure 2022 | BT4: Apportioned LHN figure 2023 | BU4: Apportioned LHN figure 2024 | BV4: Apportioned LHN figure 2025 | BW4: Net additional dwellings 2018/19 | BX4: Net additional dwellings 2019/20 | BY4: Net additional dwellings 2020/21 | BZ4: Net additional dwellings 2021/22 | CA4: Net additional dwellings 2022/23 | CB4: Net additional dwellings 2023/24 | CC4: Net additional dwellings 2024/25 | CD4: Net additional dwellings 2025/26 | CE4: Homes required 2018/19-2020/21 | CF4: Homes required 2019/20-2021/22 | CG4: homes required 2020/21-2022/23 | CH4: homes required 2021/22-2023/24 | CI4: homes required 2022/23-2024/25 | CJ4: homes required 2023/24-2025/26 | CK4: COVID-19 adj. Homes required 2018/19-2020/21 | CL4: COVID-19 adj. Homes required 2019/20-2021/22 | CM4: COVID-19 adj. Homes required 2020/21-2022/23 | CN4: COVID-19 adj. homes required 2021/22-2023/24 | CO4: COVID-19 adj. homes required 2022/23-2024/25 | CP4: COVID-19 adj. homes required 2023/24-2025/26 | CQ4: Homes delivered 2018/19-2020/21 | CR4: Homes delivered 2019/20-2020/22 | CS4: Homes delivered 2020/21-2020/23 | CT4: Homes delivered 2021/22-2023/24 | CU4: Homes delivered 2022/23-2024/25 | CV4: Homes delivered 2023/24-2025/26 | CW4: HDT 2021 | CX4: HDT 2021 classification | CY4: HDT 2022 | CZ4: HDT 2022 classification | DA4: HDT 2023 | DB4: HDT 2023 classification | DC4: HDT 2024 | DD4: HDT 2024 classification | DE4: HDT 2025 | DF4: HDT 2025 classification | DG4: HDT 2026 | DH4: HDT 2026 classification
A5: E07000223 | B5: Adur | C5: E07000223 | D5: SE | E5: =VLOOKUP(C5,PoliticalControl!A:K,11,FALSE) -> CON | F5: =VLOOKUP(C5,UrbanRuralClassification!A:N,13,FALSE) -> Urban with City and Town | G5: =VLOOKUP(C5,UrbanRuralClassification!A:N,14,FALSE) -> Predominantly Urban | H5: =IF(ISBLANK((VLOOKUP($A5,'local-plan-data'!$C$1:$AD$566,27,FALSE)))=TRUE,"",VLOOKUP($A5,'local-plan-data'!$C$1:$AD$566,27,FALSE)) -> 43083 | I5: =VLOOKUP($A5,'local-plan-data'!$C$1:$AD$566,28,FALSE) -> 177.04762 | J5: =IFERROR(IF(ISNUMBER(I5),I5,VALUE(LEFT(I5,FIND("-",I5)-1))),"-") -> 177.04762 | K5: =IF(AND(ISNUMBER($H5),ISNUMBER($J5)),IF(($H5-K$1>0),$J5,IF(DATEDIF($H5,K$1,"y")<5,$J5,"-")),"-") -> 177.04762 | L5: =IF(AND(ISNUMBER($H5),ISNUMBER($J5)),IF(($H5-L$1>0),$J5,IF(DATEDIF($H5,L$1,"y")<5,$J5,"-")),"-") -> 177.04762 | M5: =IF(AND(ISNUMBER($H5),ISNUMBER($J5)),IF(($H5-M$1>0),$J5,IF(DATEDIF($H5,M$1,"y")<5,$J5,"-")),"-") -> 177.04762 | N5: =IF(AND(ISNUMBER($H5),ISNUMBER($J5)),IF(($H5-N$1>0),$J5,IF(DATEDIF($H5,N$1,"y")<5,$J5,"-")),"-") -> 177.04762 | O5: =IF(AND(ISNUMBER($H5),ISNUMBER($J5)),IF(($H5-O$1>0),$J5,IF(DATEDIF($H5,O$1,"y")<5,$J5,"-")),"-") -> 177.04762 | P5: =IF(AND(ISNUMBER($H5),ISNUMBER($J5)),IF(($H5-P$1>0),$J5,IF(DATEDIF($H5,P$1,"y")<5,$J5,"-")),"-") -> - | Q5: =IF(AND(ISNUMBER($H5),ISNUMBER($J5)),IF(($H5-Q$1>0),$J5,IF(DATEDIF($H5,Q$1,"y")<5,$J5,"-")),"-") -> - | R5: =IF(AND(ISNUMBER($H5),ISNUMBER($J5)),IF(($H5-R$1>0),$J5,IF(DATEDIF($H5,R$1,"y")<5,$J5,"-")),"-") -> - | S5: =IFERROR((EDATE($H5,60))-S$1,"-") -> 1718 | T5: =IFERROR((EDATE($H5,60))-T$1,"-") -> 1353 | U5: =IFERROR((EDATE($H5,60))-U$1,"-") -> 987 | V5: =IFERROR((EDATE($H5,60))-V$1,"-") -> 622 | W5: =IFERROR((EDATE($H5,60))-W$1,"-") -> 257 | X5: =IFERROR((EDATE($H5,60))-X$1,"-") -> -108 | Y5: =IFERROR((EDATE($H5,60))-Y$1,"-") -> -474 | Z5: =IFERROR((EDATE($H5,60))-Z$1,"-") -> -839 | AA5: =(VLOOKUP(A5,Hshldprojections2014!$A$2:$AW$319,40, FALSE)-VLOOKUP(A5,Hshldprojections2014!$A$2:$AW$319,30, FALSE))/10 -> 305.5 | AB5: =(VLOOKUP(A5,Hshldprojections2014!$A$2:$AW$319,41, FALSE)-VLOOKUP(A5,Hshldprojections2014!$A$2:$AW$319,31, FALSE))/10 -> 308.8 | AC5: =(VLOOKUP(A5,Hshldprojections2014!$A$2:$AW$319,42, FALSE)-VLOOKUP(A5,Hshldprojections2014!$A$2:$AW$319,32, FALSE))/10 -> 312.5 | AD5: =IF(IndividualLATest!$J$7=2014,(VLOOKUP($A5,Hshldprojections2014!$A$2:$AY$326,43,FALSE)-VLOOKUP($A5,Hshldprojections2014!$A$2:$AY$326,33,FALSE))/10,IF(IndividualLATest!$J$7=2016,(VLOOKUP($A5,Hshldprojections2016!$A$1:$AQ$322,33,FALSE)-VLOOKUP($A5,Hshldprojections2016!$A$1:$AQ$322,23,FALSE))/10,(VLOOKUP($A5,Hshldprojections2018!$A$1:$AQ$327,33,FALSE)-VLOOKUP($A5,Hshldprojections2018!$A$1:$AQ$327,23,FALSE))/10)) -> 155.2 | AE5: =IF(IndividualLATest!$J$7=2014,(VLOOKUP($A5,Hshldprojections2014!$A$2:$AY$326,44,FALSE)-VLOOKUP($A5,Hshldprojections2014!$A$2:$AY$326,34,FALSE))/10,IF(IndividualLATest!$J$7=2016,(VLOOKUP($A5,Hshldprojections2016!$A$1:$AQ$322,34,FALSE)-VLOOKUP($A5,Hshldprojections2016!$A$1:$AQ$322,24,FALSE))/10,(VLOOKUP($A5,Hshldprojections2018!$A$1:$AQ$327,34,FALSE)-VLOOKUP($A5,Hshldprojections2018!$A$1:$AQ$327,24,FALSE))/10)) -> 154.6 | AF5: =IF(IndividualLATest!$J$7=2014,(VLOOKUP($A5,Hshldprojections2014!$A$2:$AY$326,45,FALSE)-VLOOKUP($A5,Hshldprojections2014!$A$2:$AY$326,35,FALSE))/10,IF(IndividualLATest!$J$7=2016,(VLOOKUP($A5,Hshldprojections2016!$A$1:$AQ$322,35,FALSE)-VLOOKUP($A5,Hshldprojections2016!$A$1:$AQ$322,25,FALSE))/10,(VLOOKUP($A5,Hshldprojections2018!$A$1:$AQ$327,35,FALSE)-VLOOKUP($A5,Hshldprojections2018!$A$1:$AQ$327,25,FALSE))/10)) -> 153.3 | AG5: =IF(IndividualLATest!$J$7=2014,(VLOOKUP($A5,Hshldprojections2014!$A$2:$AY$326,46,FALSE)-VLOOKUP($A5,Hshldprojections2014!$A$2:$AY$326,36,FALSE))/10,IF(IndividualLATest!$J$7=2016,(VLOOKUP($A5,Hshldprojections2016!$A$1:$AQ$322,36,FALSE)-VLOOKUP($A5,Hshldprojections2016!$A$1:$AQ$322,26,FALSE))/10,(VLOOKUP($A5,Hshldprojections2018!$A$1:$AQ$327,36,FALSE)-VLOOKUP($A5,Hshldprojections2018!$A$1:$AQ$327,26,FALSE))/10)) -> 151.8 | AH5: =IF(IndividualLATest!$J$7=2014,(VLOOKUP($A5,Hshldprojections2014!$A$2:$AY$326,47,FALSE)-VLOOKUP($A5,Hshldprojections2014!$A$2:$AY$326,37,FALSE))/10,IF(IndividualLATest!$J$7=2016,(VLOOKUP($A5,Hshldprojections2016!$A$1:$AQ$322,37,FALSE)-VLOOKUP($A5,Hshldprojections2016!$A$1:$AQ$322,27,FALSE))/10,(VLOOKUP($A5,Hshldprojections2018!$A$1:$AQ$327,37,FALSE)-VLOOKUP($A5,Hshldprojections2018!$A$1:$AQ$327,27,FALSE))/10)) -> 152.2 | AI5: =VLOOKUP($A5,AffordabilityRatio!$A$2:$I$321,5,FALSE) -> 11.59 | AJ5: =VLOOKUP($A5,AffordabilityRatio!$A$2:$I$321,6,FALSE) -> 11.81 | AK5: =VLOOKUP($A5,AffordabilityRatio!$A$2:$I$321,7,FALSE) -> 11.49 | AL5: =IF((VLOOKUP($A5,AffordabilityRatio!$A$2:$I$321,8,FALSE))="",AK5,VLOOKUP($A5,AffordabilityRatio!$A$2:$I$321,8,FALSE)) -> 11.52 | AM5: =IF((VLOOKUP($A5,AffordabilityRatio!$A$2:$I$321,9,FALSE))="",AL5,VLOOKUP($A5,AffordabilityRatio!$A$2:$I$321,9,FALSE)) -> 13.41 | AN5: =IF((VLOOKUP($A5,AffordabilityRatio!$A$2:$I$321,9,FALSE))="",AM5,VLOOKUP($A5,AffordabilityRatio!$A$2:$I$321,9,FALSE)) -> 13.41 | AO5: =IF((VLOOKUP($A5,AffordabilityRatio!$A$2:$I$321,9,FALSE))="",AN5,VLOOKUP($A5,AffordabilityRatio!$A$2:$I$321,9,FALSE)) -> 13.41 | AP5: =IF((VLOOKUP($A5,AffordabilityRatio!$A$2:$I$321,9,FALSE))="",AO5,VLOOKUP($A5,AffordabilityRatio!$A$2:$I$321,9,FALSE)) -> 13.41 | AQ5: =IF(AA5<0,0,IF(AI5>4,ROUND((1+((AI5-4)/4*0.25))*AA5,0),AA5)) -> 450 | AR5: =IF(AB5<0,0,IF(AJ5>4,ROUND((1+((AJ5-4)/4*0.25))*AB5,0),AB5)) -> 460 | AS5: =IF(AC5<0,0,IF(AK5>4,ROUND((1+((AK5-4)/4*0.25))*AC5,0),AC5)) -> 459 | AT5: =IF(AD5<0,0,IF(AL5>4,ROUND((1+((AL5-4)/4*0.25))*AD5,0),AD5)) -> 228 | AU5: =IF(AE5<0,0,IF(AM5>4,ROUND((1+((AM5-4)/4*0.25))*AE5,0),AE5)) -> 246 | AV5: =IF(AF5<0,0,IF(AN5>4,ROUND((1+((AN5-4)/4*0.25))*AF5,0),AF5)) -> 243 | AW5: =IF(AG5<0,0,IF(AO5>4,ROUND((1+((AO5-4)/4*0.25))*AG5,0),AG5)) -> 241 | AX5: =IF(AH5<0,0,IF(AP5>4,ROUND((1+((AP5-4)/4*0.25))*AH5,0),AH5)) -> 242 | AY5: =IF(AA5<0,0,IF(K5="-",MIN((MAX(J5, AA5)+((MAX(J5, AA5))*0.4)),AQ5),MIN(K5+(K5*0.4),AQ5))) -> 247.86667 | AZ5: =IF(AB5<0,0,IF(L5="-",MIN((MAX(J5, AB5)+((MAX(J5, AB5))*0.4)),AR5),MIN(L5+(L5*0.4),AR5))) -> 247.86667 | BA5: =IF(AC5<0,0,IF(M5="-",MIN((MAX(J5, AC5)+((MAX(J5, AC5))*0.4)),AS5),MIN(M5+(M5*0.4),AS5))) -> 247.86667 | BB5: =IF(AD5<0,0,IF(N5="-",MIN((MAX(J5, AD5)+((MAX(J5, AD5))*0.4)),AT5),MIN(N5+(N5*0.4),AT5))) -> 228 | BC5: =IF(AE5<0,0,IF(O5="-",MIN((MAX(J5, AE5)+((MAX(J5, AE5))*0.4)),AU5),MIN(O5+(O5*0.4),AU5))) -> 246 | BD5: =IF(AF5<0,0,IF(P5="-",MIN((MAX(J5, AF5)+((MAX(J5, AF5))*0.4)),AV5),MIN(P5+(P5*0.4),AV5))) -> 243 | BE5: =IF(AG5<0,0,IF(Q5="-",MIN((MAX(J5, AG5)+((MAX(J5, AG5))*0.4)),AW5),MIN(Q5+(Q5*0.4),AW5))) -> 241 | BF5: =IF(AH5<0,0,IF(R5="-",MIN((MAX(J5, AH5)+((MAX(J5, AH5))*0.4)),AX5),MIN(R5+(R5*0.4),AX5))) -> 242 | BG5: =AY5*VLOOKUP($B5,'Major Cities & Towns'!$A$28:$B$345,2,FALSE) -> 247.86667 | BH5: =AZ5*VLOOKUP($B5,'Major Cities & Towns'!$A$28:$B$345,2,FALSE) -> 247.86667 | BI5: =BA5*VLOOKUP($B5,'Major Cities & Towns'!$A$28:$B$345,2,FALSE) -> 247.86667 | BJ5: =BB5*VLOOKUP($B5,'Major Cities & Towns'!$A$28:$B$345,2,FALSE) -> 228 | BK5: =BC5*VLOOKUP($B5,'Major Cities & Towns'!$A$28:$B$345,2,FALSE) -> 246 | BL5: =BD5*VLOOKUP($B5,'Major Cities & Towns'!$A$28:$B$345,2,FALSE) -> 243 | BM5: =BE5*VLOOKUP($B5,'Major Cities & Towns'!$A$28:$B$345,2,FALSE) -> 241 | BN5: =BF5*VLOOKUP($B5,'Major Cities & Towns'!$A$28:$B$345,2,FALSE) -> 242 | BO5: =IFERROR(IF(AND(S5<365,S5>0),SUM(((S5/365)*(MIN(K5,BG5)))+(((365-S5)/365)*AQ5)),(MIN(K5,AQ5))),AQ5) -> 177.04762 | BP5: =IFERROR(IF(AND(T5<365,T5>0),SUM(((T5/365)*(MIN(L5,BH5)))+(((365-T5)/365)*AR5)),(MIN(L5,AR5))),AR5) -> 177.04762 | BQ5: =IFERROR(IF(AND(U5<365,U5>0),SUM(((U5/365)*(MIN(M5,BI5)))+(((365-U5)/365)*AS5)),(MIN(M5,AS5))),AS5) -> 177.04762 | BR5: =IFERROR(IF(AND(V5<365,V5>0),SUM(((V5/365)*(MIN(N5,BJ5)))+(((365-V5)/365)*AT5)),(MIN(N5,AT5))),AT5) -> 177.04762 | BS5: =IFERROR(IF(AND(W5<365,W5>0),SUM(((W5/365)*(MIN(O5,BK5)))+(((365-W5)/365)*AU5)),(MIN(O5,AU5))),AU5) -> 197.44997 | BT5: =IFERROR(IF(AND(X5<365,X5>0),SUM(((X5/365)*(MIN(P5,BL5)))+(((365-X5)/365)*AV5)),(MIN(P5,AV5))),AV5) -> 243 | BU5: =IFERROR(IF(AND(Y5<365,Y5>0),SUM(((Y5/365)*(MIN(Q5,BM5)))+(((365-Y5)/365)*AW5)),(MIN(Q5,AW5))),AW5) -> 241 | BV5: =IFERROR(IF(AND(Z5<365,Z5>0),SUM(((Z5/365)*(MIN(R5,BN5)))+(((365-Z5)/365)*AX5)),(MIN(R5,AX5))),AX5) -> 242 | BW5: =VLOOKUP($A5,NetAdditions!$A$2:$H$336,6,FALSE) -> 113 | BX5: =VLOOKUP($A5,NetAdditions!$A$2:$H$336,7,FALSE) -> 13 | BY5: =IF((VLOOKUP($C5,NetAdditions!$A$2:$H$336,8,FALSE))="",(AVERAGE(VLOOKUP($C5,NetAdditions!$A$2:$H$336,5,FALSE),VLOOKUP($C5,NetAdditions!$A$2:$H$336,6,FALSE),VLOOKUP($C5,NetAdditions!$A$2:$H$336,7,FALSE))),VLOOKUP($C5,NetAdditions!$A$2:$H$336,8,FALSE)) -> 209 | BZ5: =AVERAGE(BW5:BY5) -> 111.66667 | CA5: =AVERAGE(BX5:BZ5) -> 111.22222 | CB5: =AVERAGE(BY5:CA5) -> 143.96296 | CC5: =AVERAGE(BZ5:CB5) -> 122.28395 | CD5: =AVERAGE(CA5:CC5) -> 125.82305 | CE5: =SUM(BO5:BQ5) -> 531.14286 | CF5: =SUM(BP5:BR5) -> 531.14286 | CG5: =SUM(BQ5:BS5) -> 551.54521 | CH5: =SUM(BR5:BT5) -> 617.49759 | CI5: =SUM(BS5:BU5) -> 681.44997 | CJ5: =SUM(BT5:BV5) -> 726 | CK5: =CE5*((24+7)/36) -> 457.37302 | CL5: =CF5*((24+7)/36) -> 457.37302 | CM5: =CG5*((24+7)/36) -> 474.9417 | CN5: =CH5 -> 617.49759 | CO5: =CI5 -> 681.44997 | CP5: =CJ5 -> 726 | CQ5: =SUM(BW5:BY5) -> 335 | CR5: =SUM(BX5:BZ5) -> 333.66667 | CS5: =SUM(BY5:CA5) -> 431.88889 | CT5: =SUM(BZ5:CB5) -> 366.85185 | CU5: =SUM(CA5:CC5) -> 377.46914 | CV5: =SUM(CB5:CD5) -> 392.06996 | CW5: =IFERROR(CQ5/CK5,"-") -> 0.73244373 | CX5: =IF(CW5<0.25, "Presumption", IF(CW5<0.85, "Buffer and Action Plan", IF(CW5<0.95, "Action Plan", "Pass"))) -> Buffer and Action Plan | CY5: =IFERROR(CR5/CL5,"-") -> 0.72952854 | CZ5: =IF(CY5<0.45, "Presumption", IF(CY5<0.85, "Buffer and Action Plan", IF(CY5<0.95, "Action Plan", "Pass"))) -> Buffer and Action Plan | DA5: =IFERROR(CS5/CM5,"-") -> 0.90935137 | DB5: =IF(DA5<0.75, "Presumption", IF(DA5<0.85, "Buffer and Action Plan", IF(DA5<0.95, "Action Plan", "Pass"))) -> Action Plan | DC5: =IFERROR(CT5/CN5,"-") -> 0.59409439 | DD5: =IF(DC5<0.75, "Presumption", IF(DC5<0.85, "Buffer and Action Plan", IF(DC5<0.95, "Action Plan", "Pass"))) -> Presumption | DE5: =IFERROR(CU5/CO5,"-") -> 0.55392054 | DF5: =IF(DE5<0.75, "Presumption", IF(DE5<0.85, "Buffer and Action Plan", IF(DE5<0.95, "Action Plan", "Pass"))) -> Presumption | DG5: =IFERROR(CV5/CP5,"-") -> 0.54004127 | DH5: =IF(DG5<0.75, "Presumption", IF(DG5<0.85, "Buffer and Action Plan", IF(DG5<0.95, "Action Plan", "Pass"))) -> Presumption
A6: E07000026 | B6: Allerdale | C6: E07000026 | D6: NW | E6: =VLOOKUP(C6,PoliticalControl!A:K,11,FALSE) -> NOC | F6: =VLOOKUP(C6,UrbanRuralClassification!A:N,13,FALSE) -> Mainly Rural (rural including hub towns >=80%) | G6: =VLOOKUP(C6,UrbanRuralClassification!A:N,14,FALSE) -> Predominantly Rural | H6: =IF(ISBLANK((VLOOKUP($A6,'local-plan-data'!$C$1:$AD$566,27,FALSE)))=TRUE,"",VLOOKUP($A6,'local-plan-data'!$C$1:$AD$566,27,FALSE)) -> 41836 | I6: =VLOOKUP($A6,'local-plan-data'!$C$1:$AD$566,28,FALSE) -> 304 | J6: =IFERROR(IF(ISNUMBER(I6),I6,VALUE(LEFT(I6,FIND("-",I6)-1))),"-") -> 304 | K6: =IF(AND(ISNUMBER($H6),ISNUMBER($J6)),IF(($H6-K$1>0),$J6,IF(DATEDIF($H6,K$1,"y")<5,$J6,"-")),"-") -> 304 | L6: =IF(AND(ISNUMBER($H6),ISNUMBER($J6)),IF(($H6-L$1>0),$J6,IF(DATEDIF($H6,L$1,"y")<5,$J6,"-")),"-") -> 304 | M6: =IF(AND(ISNUMBER($H6),ISNUMBER($J6)),IF(($H6-M$1>0),$J6,IF(DATEDIF($H6,M$1,"y")<5,$J6,"-")),"-") -> - | N6: =IF(AND(ISNUMBER($H6),ISNUMBER($J6)),IF(($H6-N$1>0),$J6,IF(DATEDIF($H6,N$1,"y")<5,$J6,"-")),"-") -> - | O6: =IF(AND(ISNUMBER($H6),ISNUMBER($J6)),IF(($H6-O$1>0),$J6,IF(DATEDIF($H6,O$1,"y")<5,$J6,"-")),"-") -> - | P6: =IF(AND(ISNUMBER($H6),ISNUMBER($J6)),IF(($H6-P$1>0),$J6,IF(DATEDIF($H6,P$1,"y")<5,$J6,"-")),"-") -> - | Q6: =IF(AND(ISNUMBER($H6),ISNUMBER($J6)),IF(($H6-Q$1>0),$J6,IF(DATEDIF($H6,Q$1,"y")<5,$J6,"-")),"-") -> - | R6: =IF(AND(ISNUMBER($H6),ISNUMBER($J6)),IF(($H6-R$1>0),$J6,IF(DATEDIF($H6,R$1,"y")<5,$J6,"-")),"-") -> - | S6: =IFERROR((EDATE($H6,60))-S$1,"-") -> 471 | T6: =IFERROR((EDATE($H6,60))-T$1,"-") -> 106 | U6: =IFERROR((EDATE($H6,60))-U$1,"-") -> -260 | V6: =IFERROR((EDATE($H6,60))-V$1,"-") -> -625 | W6: =IFERROR((EDATE($H6,60))-W$1,"-") -> -990 | X6: =IFERROR((EDATE($H6,60))-X$1,"-") -> -1355 | Y6: =IFERROR((EDATE($H6,60))-Y$1,"-") -> -1721 | Z6: =IFERROR((EDATE($H6,60))-Z$1,"-") -> -2086 | AA6: =(VLOOKUP(A6,Hshldprojections2014!$A$2:$AW$319,40, FALSE)-VLOOKUP(A6,Hshldprojections2014!$A$2:$AW$319,30, FALSE))/10 -> 102.5 | AB6: =(VLOOKUP(A6,Hshldprojections2014!$A$2:$AW$319,41, FALSE)-VLOOKUP(A6,Hshldprojections2014!$A$2:$AW$319,31, FALSE))/10 -> 95.3 | AC6: =(VLOOKUP(A6,Hshldprojections2014!$A$2:$AW$319,42, FALSE)-VLOOKUP(A6,Hshldprojections2014!$A$2:$AW$319,32, FALSE))/10 -> 90.7 | AD6: =IF(IndividualLATest!$J$7=2014,(VLOOKUP($A6,Hshldprojections2014!$A$2:$AY$326,43,FALSE)-VLOOKUP($A6,Hshldprojections2014!$A$2:$AY$326,33,FALSE))/10,IF(IndividualLATest!$J$7=2016,(VLOOKUP($A6,Hshldprojections2016!$A$1:$AQ$322,33,FALSE)-VLOOKUP($A6,Hshldprojections2016!$A$1:$AQ$322,23,FALSE))/10,(VLOOKUP($A6,Hshldprojections2018!$A$1:$AQ$327,33,FALSE)-VLOOKUP($A6,Hshldprojections2018!$A$1:$AQ$327,23,FALSE))/10)) -> 110.8 | AE6: =IF(IndividualLATest!$J$7=2014,(VLOOKUP($A6,Hshldprojections2014!$A$2:$AY$326,44,FALSE)-VLOOKUP($A6,Hshldprojections2014!$A$2:$AY$326,34,FALSE))/10,IF(IndividualLATest!$J$7=2016,(VLOOKUP($A6,Hshldprojections2016!$A$1:$AQ$322,34,FALSE)-VLOOKUP($A6,Hshldprojections2016!$A$1:$AQ$322,24,FALSE))/10,(VLOOKUP($A6,Hshldprojections2018!$A$1:$AQ$327,34,FALSE)-VLOOKUP($A6,Hshldprojections2018!$A$1:$AQ$327,24,FALSE))/10)) -> 100.8 | AF6: =IF(IndividualLATest!$J$7=2014,(VLOOKUP($A6,Hshldprojections2014!$A$2:$AY$326,45,FALSE)-VLOOKUP($A6,Hshldprojections2014!$A$2:$AY$326,35,FALSE))/10,IF(IndividualLATest!$J$7=2016,(VLOOKUP($A6,Hshldprojections2016!$A$1:$AQ$322,35,FALSE)-VLOOKUP($A6,Hshldprojections2016!$A$1:$AQ$322,25,FALSE))/10,(VLOOKUP($A6,Hshldprojections2018!$A$1:$AQ$327,35,FALSE)-VLOOKUP($A6,Hshldprojections2018!$A$1:$AQ$327,25,FALSE))/10)) -> 94.1 | AG6: =IF(IndividualLATest!$J$7=2014,(VLOOKUP($A6,Hshldprojections2014!$A$2:$AY$326,46,FALSE)-VLOOKUP($A6,Hshldprojections2014!$A$2:$AY$326,36,FALSE))/10,IF(IndividualLATest!$J$7=2016,(VLOOKUP($A6,Hshldprojections2016!$A$1:$AQ$322,36,FALSE)-VLOOKUP($A6,Hshldprojections2016!$A$1:$AQ$322,26,FALSE))/10,(VLOOKUP($A6,Hshldprojections2018!$A$1:$AQ$327,36,FALSE)-VLOOKUP($A6,Hshldprojections2018!$A$1:$AQ$327,26,FALSE))/10)) -> 89.8 | AH6: =IF(IndividualLATest!$J$7=2014,(VLOOKUP($A6,Hshldprojections2014!$A$2:$AY$326,47,FALSE)-VLOOKUP($A6,Hshldprojections2014!$A$2:$AY$326,37,FALSE))/10,IF(IndividualLATest!$J$7=2016,(VLOOKUP($A6,Hshldprojections2016!$A$1:$AQ$322,37,FALSE)-VLOOKUP($A6,Hshldprojections2016!$A$1:$AQ$322,27,FALSE))/10,(VLOOKUP($A6,Hshldprojections2018!$A$1:$AQ$327,37,FALSE)-VLOOKUP($A6,Hshldprojections2018!$A$1:$AQ$327,27,FALSE))/10)) -> 87.7 | AI6: =VLOOKUP($A6,AffordabilityRatio!$A$2:$I$321,5,FALSE) -> 6.47 | AJ6: =VLOOKUP($A6,AffordabilityRatio!$A$2:$I$321,6,FALSE) -> 6.65 | AK6: =VLOOKUP($A6,AffordabilityRatio!$A$2:$I$321,7,FALSE) -> 6.69 | AL6: =IF((VLOOKUP($A6,AffordabilityRatio!$A$2:$I$321,8,FALSE))="",AK6,VLOOKUP($A6,AffordabilityRatio!$A$2:$I$321,8,FALSE)) -> 6.09 | AM6: =IF((VLOOKUP($A6,AffordabilityRatio!$A$2:$I$321,9,FALSE))="",AL6,VLOOKUP($A6,AffordabilityRatio!$A$2:$I$321,9,FALSE)) -> 6.6 | AN6: =IF((VLOOKUP($A6,AffordabilityRatio!$A$2:$I$321,9,FALSE))="",AM6,VLOOKUP($A6,AffordabilityRatio!$A$2:$I$321,9,FALSE)) -> 6.6 | AO6: =IF((VLOOKUP($A6,AffordabilityRatio!$A$2:$I$321,9,FALSE))="",AN6,VLOOKUP($A6,AffordabilityRatio!$A$2:$I$321,9,FALSE)) -> 6.6 | AP6: =IF((VLOOKUP($A6,AffordabilityRatio!$A$2:$I$321,9,FALSE))="",AO6,VLOOKUP($A6,AffordabilityRatio!$A$2:$I$321,9,FALSE)) -> 6.6 | AQ6: =IF(AA6<0,0,IF(AI6>4,ROUND((1+((AI6-4)/4*0.25))*AA6,0),AA6)) -> 118 | AR6: =IF(AB6<0,0,IF(AJ6>4,ROUND((1+((AJ6-4)/4*0.25))*AB6,0),AB6)) -> 111 | AS6: =IF(AC6<0,0,IF(AK6>4,ROUND((1+((AK6-4)/4*0.25))*AC6,0),AC6)) -> 106 | AT6: =IF(AD6<0,0,IF(AL6>4,ROUND((1+((AL6-4)/4*0.25))*AD6,0),AD6)) -> 125 | AU6: =IF(AE6<0,0,IF(AM6>4,ROUND((1+((AM6-4)/4*0.25))*AE6,0),AE6)) -> 117 | AV6: =IF(AF6<0,0,IF(AN6>4,ROUND((1+((AN6-4)/4*0.25))*AF6,0),AF6)) -> 109 | AW6: =IF(AG6<0,0,IF(AO6>4,ROUND((1+((AO6-4)/4*0.25))*AG6,0),AG6)) -> 104 | AX6: =IF(AH6<0,0,IF(AP6>4,ROUND((1+((AP6-4)/4*0.25))*AH6,0),AH6)) -> 102 | AY6: =IF(AA6<0,0,IF(K6="-",MIN((MAX(J6, AA6)+((MAX(J6, AA6))*0.4)),AQ6),MIN(K6+(K6*0.4),AQ6))) -> 118 | AZ6: =IF(AB6<0,0,IF(L6="-",MIN((MAX(J6, AB6)+((MAX(J6, AB6))*0.4)),AR6),MIN(L6+(L6*0.4),AR6))) -> 111 | BA6: =IF(AC6<0,0,IF(M6="-",MIN((MAX(J6, AC6)+((MAX(J6, AC6))*0.4)),AS6),MIN(M6+(M6*0.4),AS6))) -> 106 | BB6: =IF(AD6<0,0,IF(N6="-",MIN((MAX(J6, AD6)+((MAX(J6, AD6))*0.4)),AT6),MIN(N6+(N6*0.4),AT6))) -> 125 | BC6: =IF(AE6<0,0,IF(O6="-",MIN((MAX(J6, AE6)+((MAX(J6, AE6))*0.4)),AU6),MIN(O6+(O6*0.4),AU6))) -> 117 | BD6: =IF(AF6<0,0,IF(P6="-",MIN((MAX(J6, AF6)+((MAX(J6, AF6))*0.4)),AV6),MIN(P6+(P6*0.4),AV6))) -> 109 | BE6: =IF(AG6<0,0,IF(Q6="-",MIN((MAX(J6, AG6)+((MAX(J6, AG6))*0.4)),AW6),MIN(Q6+(Q6*0.4),AW6))) -> 104 | BF6: =IF(AH6<0,0,IF(R6="-",MIN((MAX(J6, AH6)+((MAX(J6, AH6))*0.4)),AX6),MIN(R6+(R6*0.4),AX6))) -> 102 | BG6: =AY6*VLOOKUP($B6,'Major Cities & Towns'!$A$28:$B$345,2,FALSE) -> 118 | BH6: =AZ6*VLOOKUP($B6,'Major Cities & Towns'!$A$28:$B$345,2,FALSE) -> 111 | BI6: =BA6*VLOOKUP($B6,'Major Cities & Towns'!$A$28:$B$345,2,FALSE) -> 106 | BJ6: =BB6*VLOOKUP($B6,'Major Cities & Towns'!$A$28:$B$345,2,FALSE) -> 125 | BK6: =BC6*VLOOKUP($B6,'Major Cities & Towns'!$A$28:$B$345,2,FALSE) -> 117 | BL6: =BD6*VLOOKUP($B6,'Major Cities & Towns'!$A$28:$B$345,2,FALSE) -> 109 | BM6: =BE6*VLOOKUP($B6,'Major Cities & Towns'!$A$28:$B$345,2,FALSE) -> 104 | BN6: =BF6*VLOOKUP($B6,'Major Cities & Towns'!$A$28:$B$345,2,FALSE) -> 102 | BO6: =IFERROR(IF(AND(S6<365,S6>0),SUM(((S6/365)*(MIN(K6,BG6)))+(((365-S6)/365)*AQ6)),(MIN(K6,AQ6))),AQ6) -> 118 | BP6: =IFERROR(IF(AND(T6<365,T6>0),SUM(((T6/365)*(MIN(L6,BH6)))+(((365-T6)/365)*AR6)),(MIN(L6,AR6))),AR6) -> 111 | BQ6: =IFERROR(IF(AND(U6<365,U6>0),SUM(((U6/365)*(MIN(M6,BI6)))+(((365-U6)/365)*AS6)),(MIN(M6,AS6))),AS6) -> 106 | BR6: =IFERROR(IF(AND(V6<365,V6>0),SUM(((V6/365)*(MIN(N6,BJ6)))+(((365-V6)/365)*AT6)),(MIN(N6,AT6))),AT6) -> 125 | BS6: =IFERROR(IF(AND(W6<365,W6>0),SUM(((W6/365)*(MIN(O6,BK6)))+(((365-W6)/365)*AU6)),(MIN(O6,AU6))),AU6) -> 117 | BT6: =IFERROR(IF(AND(X6<365,X6>0),SUM(((X6/365)*(MIN(P6,BL6)))+(((365-X6)/365)*AV6)),(MIN(P6,AV6))),AV6) -> 109 | BU6: =IFERROR(IF(AND(Y6<365,Y6>0),SUM(((Y6/365)*(MIN(Q6,BM6)))+(((365-Y6)/365)*AW6)),(MIN(Q6,AW6))),AW6) -> 104 | BV6: =IFERROR(IF(AND(Z6<365,Z6>0),SUM(((Z6/365)*(MIN(R6,BN6)))+(((365-Z6)/365)*AX6)),(MIN(R6,AX6))),AX6) -> 102 | BW6: =VLOOKUP($A6,NetAdditions!$A$2:$H$336,6,FALSE) -> 337 | BX6: =VLOOKUP($A6,NetAdditions!$A$2:$H$336,7,FALSE) -> 256 | BY6: =IF((VLOOKUP($C6,NetAdditions!$A$2:$H$336,8,FALSE))="",(AVERAGE(VLOOKUP($C6,NetAdditions!$A$2:$H$336,5,FALSE),VLOOKUP($C6,NetAdditions!$A$2:$H$336,6,FALSE),VLOOKUP($C6,NetAdditions!$A$2:$H$336,7,FALSE))),VLOOKUP($C6,NetAdditions!$A$2:$H$336,8,FALSE)) -> 300 | BZ6: =AVERAGE(BW6:BY6) -> 297.66667 | CA6: =AVERAGE(BX6:BZ6) -> 284.55556 | CB6: =AVERAGE(BY6:CA6) -> 294.07407 | CC6: =AVERAGE(BZ6:CB6) -> 292.09877 | CD6: =AVERAGE(CA6:CC6) -> 290.2428 | CE6: =SUM(BO6:BQ6) -> 335 | CF6: =SUM(BP6:BR6) -> 342 | CG6: =SUM(BQ6:BS6) -> 348 | CH6: =SUM(BR6:BT6) -> 351 | CI6: =SUM(BS6:BU6) -> 330 | CJ6: =SUM(BT6:BV6) -> 315 | CK6: =CE6*((24+7)/36) -> 288.47222 | CL6: =CF6*((24+7)/36) -> 294.5 | CM6: =CG6*((24+9)/36) -> 319 | CN6: =CH6 -> 351 | CO6: =CI6 -> 330 | CP6: =CJ6 -> 315 | CQ6: =SUM(BW6:BY6) -> 893 | CR6: =SUM(BX6:BZ6) -> 853.66667 | CS6: =SUM(BY6:CA6) -> 882.22222 | CT6: =SUM(BZ6:CB6) -> 876.2963 | CU6: =SUM(CA6:CC6) -> 870.7284 | CV6: =SUM(CB6:CD6) -> 876.41564 | CW6: =IFERROR(CQ6/CK6,"-") -> 3.0956187 | CX6: =IF(CW6<0.25, "Presumption", IF(CW6<0.85, "Buffer and Action Plan", IF(CW6<0.95, "Action Plan", "Pass"))) -> Pass | CY6: =IFERROR(CR6/CL6,"-") -> 2.8986984 | CZ6: =IF(CY6<0.45, "Presumption", IF(CY6<0.85, "Buffer and Action Plan", IF(CY6<0.95, "Action Plan", "Pass"))) -> Pass | DA6: =IFERROR(CS6/CM6,"-") -> 2.7655869 | DB6: =IF(DA6<0.75, "Presumption", IF(DA6<0.85, "Buffer and Action Plan", IF(DA6<0.95, "Action Plan", "Pass"))) -> Pass | DC6: =IFERROR(CT6/CN6,"-") -> 2.4965706 | DD6: =IF(DC6<0.75, "Presumption", IF(DC6<0.85, "Buffer and Action Plan", IF(DC6<0.95, "Action Plan", "Pass"))) -> Pass | DE6: =IFERROR(CU6/CO6,"-") -> 2.6385709 | DF6: =IF(DE6<0.75, "Presumption", IF(DE6<0.85, "Buffer and Action Plan", IF(DE6<0.95, "Action Plan", "Pass"))) -> Pass | DG6: =IFERROR(CV6/CP6,"-") -> 2.7822719 | DH6: =IF(DG6<0.75, "Presumption", IF(DG6<0.85, "Buffer and Action Plan", IF(DG6<0.95, "Action Plan", "Pass"))) -> Pass
A7: E07000032 | B7: Amber Valley | C7: E07000032 | D7: EM | E7: =VLOOKUP(C7,PoliticalControl!A:K,11,FALSE) -> CON | F7: =VLOOKUP(C7,UrbanRuralClassification!A:N,13,FALSE) -> Urban with Minor Conurbation | G7: =VLOOKUP(C7,UrbanRuralClassification!A:N,14,FALSE) -> Predominantly Urban | H7: =IF(ISBLANK((VLOOKUP($A7,'local-plan-data'!$C$1:$AD$566,27,FALSE)))=TRUE,"",VLOOKUP($A7,'local-plan-data'!$C$1:$AD$566,27,FALSE)) | I7: =VLOOKUP($A7,'local-plan-data'!$C$1:$AD$566,28,FALSE) -> 574.70588 | J7: =IFERROR(IF(ISNUMBER(I7),I7,VALUE(LEFT(I7,FIND("-",I7)-1))),"-") -> 574.70588 | K7: =IF(AND(ISNUMBER($H7),ISNUMBER($J7)),IF(($H7-K$1>0),$J7,IF(DATEDIF($H7,K$1,"y")<5,$J7,"-")),"-") -> - | L7: =IF(AND(ISNUMBER($H7),ISNUMBER($J7)),IF(($H7-L$1>0),$J7,IF(DATEDIF($H7,L$1,"y")<5,$J7,"-")),"-") -> - | M7: =IF(AND(ISNUMBER($H7),ISNUMBER($J7)),IF(($H7-M$1>0),$J7,IF(DATEDIF($H7,M$1,"y")<5,$J7,"-")),"-") -> - | N7: =IF(AND(ISNUMBER($H7),ISNUMBER($J7)),IF(($H7-N$1>0),$J7,IF(DATEDIF($H7,N$1,"y")<5,$J7,"-")),"-") -> - | O7: =IF(AND(ISNUMBER($H7),ISNUMBER($J7)),IF(($H7-O$1>0),$J7,IF(DATEDIF($H7,O$1,"y")<5,$J7,"-")),"-") -> - | P7: =IF(AND(ISNUMBER($H7),ISNUMBER($J7)),IF(($H7-P$1>0),$J7,IF(DATEDIF($H7,P$1,"y")<5,$J7,"-")),"-") -> - | Q7: =IF(AND(ISNUMBER($H7),ISNUMBER($J7)),IF(($H7-Q$1>0),$J7,IF(DATEDIF($H7,Q$1,"y")<5,$J7,"-")),"-") -> - | R7: =IF(AND(ISNUMBER($H7),ISNUMBER($J7)),IF(($H7-R$1>0),$J7,IF(DATEDIF($H7,R$1,"y")<5,$J7,"-")),"-") -> - | S7: =IFERROR((EDATE($H7,60))-S$1,"-") -> - | T7: =IFERROR((EDATE($H7,60))-T$1,"-") -> - | U7: =IFERROR((EDATE($H7,60))-U$1,"-") -> - | V7: =IFERROR((EDATE($H7,60))-V$1,"-") -> - | W7: =IFERROR((EDATE($H7,60))-W$1,"-") -> - | X7: =IFERROR((EDATE($H7,60))-X$1,"-") -> - | Y7: =IFERROR((EDATE($H7,60))-Y$1,"-") -> - | Z7: =IFERROR((EDATE($H7,60))-Z$1,"-") -> - | AA7: =(VLOOKUP(A7,Hshldprojections2014!$A$2:$AW$319,40, FALSE)-VLOOKUP(A7,Hshldprojections2014!$A$2:$AW$319,30, FALSE))/10 -> 355.6 | AB7: =(VLOOKUP(A7,Hshldprojections2014!$A$2:$AW$319,41, FALSE)-VLOOKUP(A7,Hshldprojections2014!$A$2:$AW$319,31, FALSE))/10 -> 346.8 | AC7: =(VLOOKUP(A7,Hshldprojections2014!$A$2:$AW$319,42, FALSE)-VLOOKUP(A7,Hshldprojections2014!$A$2:$AW$319,32, FALSE))/10 -> 339.2 | AD7: =IF(IndividualLATest!$J$7=2014,(VLOOKUP($A7,Hshldprojections2014!$A$2:$AY$326,43,FALSE)-VLOOKUP($A7,Hshldprojections2014!$A$2:$AY$326,33,FALSE))/10,IF(IndividualLATest!$J$7=2016,(VLOOKUP($A7,Hshldprojections2016!$A$1:$AQ$322,33,FALSE)-VLOOKUP($A7,Hshldprojections2016!$A$1:$AQ$322,23,FALSE))/10,(VLOOKUP($A7,Hshldprojections2018!$A$1:$AQ$327,33,FALSE)-VLOOKUP($A7,Hshldprojections2018!$A$1:$AQ$327,23,FALSE))/10)) -> 479.5 | AE7: =IF(IndividualLATest!$J$7=2014,(VLOOKUP($A7,Hshldprojections2014!$A$2:$AY$326,44,FALSE)-VLOOKUP($A7,Hshldprojections2014!$A$2:$AY$326,34,FALSE))/10,IF(IndividualLATest!$J$7=2016,(VLOOKUP($A7,Hshldprojections2016!$A$1:$AQ$322,34,FALSE)-VLOOKUP($A7,Hshldprojections2016!$A$1:$AQ$322,24,FALSE))/10,(VLOOKUP($A7,Hshldprojections2018!$A$1:$AQ$327,34,FALSE)-VLOOKUP($A7,Hshldprojections2018!$A$1:$AQ$327,24,FALSE))/10)) -> 460.6 | AF7: =IF(IndividualLATest!$J$7=2014,(VLOOKUP($A7,Hshldprojections2014!$A$2:$AY$326,45,FALSE)-VLOOKUP($A7,Hshldprojections2014!$A$2:$AY$326,35,FALSE))/10,IF(IndividualLATest!$J$7=2016,(VLOOKUP($A7,Hshldprojections2016!$A$1:$AQ$322,35,FALSE)-VLOOKUP($A7,Hshldprojections2016!$A$1:$AQ$322,25,FALSE))/10,(VLOOKUP($A7,Hshldprojections2018!$A$1:$AQ$327,35,FALSE)-VLOOKUP($A7,Hshldprojections2018!$A$1:$AQ$327,25,FALSE))/10)) -> 447.4 | AG7: =IF(IndividualLATest!$J$7=2014,(VLOOKUP($A7,Hshldprojections2014!$A$2:$AY$326,46,FALSE)-VLOOKUP($A7,Hshldprojections2014!$A$2:$AY$326,36,FALSE))/10,IF(IndividualLATest!$J$7=2016,(VLOOKUP($A7,Hshldprojections2016!$A$1:$AQ$322,36,FALSE)-VLOOKUP($A7,Hshldprojections2016!$A$1:$AQ$322,26,FALSE))/10,(VLOOKUP($A7,Hshldprojections2018!$A$1:$AQ$327,36,FALSE)-VLOOKUP($A7,Hshldprojections2018!$A$1:$AQ$327,26,FALSE))/10)) -> 433.5 | AH7: =IF(IndividualLATest!$J$7=2014,(VLOOKUP($A7,Hshldprojections2014!$A$2:$AY$326,47,FALSE)-VLOOKUP($A7,Hshldprojections2014!$A$2:$AY$326,37,FALSE))/10,IF(IndividualLATest!$J$7=2016,(VLOOKUP($A7,Hshldprojections2016!$A$1:$AQ$322,37,FALSE)-VLOOKUP($A7,Hshldprojections2016!$A$1:$AQ$322,27,FALSE))/10,(VLOOKUP($A7,Hshldprojections2018!$A$1:$AQ$327,37,FALSE)-VLOOKUP($A7,Hshldprojections2018!$A$1:$AQ$327,27,FALSE))/10)) -> 423.4 | AI7: =VLOOKUP($A7,AffordabilityRatio!$A$2:$I$321,5,FALSE) -> 5.39 | AJ7: =VLOOKUP($A7,AffordabilityRatio!$A$2:$I$321,6,FALSE) -> 5.94 | AK7: =VLOOKUP($A7,AffordabilityRatio!$A$2:$I$321,7,FALSE) -> 5.95 | AL7: =IF((VLOOKUP($A7,AffordabilityRatio!$A$2:$I$321,8,FALSE))="",AK7,VLOOKUP($A7,AffordabilityRatio!$A$2:$I$321,8,FALSE)) -> 5.97 | AM7: =IF((VLOOKUP($A7,AffordabilityRatio!$A$2:$I$321,9,FALSE))="",AL7,VLOOKUP($A7,AffordabilityRatio!$A$2:$I$321,9,FALSE)) -> 6.69 | AN7: =IF((VLOOKUP($A7,AffordabilityRatio!$A$2:$I$321,9,FALSE))="",AM7,VLOOKUP($A7,AffordabilityRatio!$A$2:$I$321,9,FALSE)) -> 6.69 | AO7: =IF((VLOOKUP($A7,AffordabilityRatio!$A$2:$I$321,9,FALSE))="",AN7,VLOOKUP($A7,AffordabilityRatio!$A$2:$I$321,9,FALSE)) -> 6.69 | AP7: =IF((VLOOKUP($A7,AffordabilityRatio!$A$2:$I$321,9,FALSE))="",AO7,VLOOKUP($A7,AffordabilityRatio!$A$2:$I$321,9,FALSE)) -> 6.69 | AQ7: =IF(AA7<0,0,IF(AI7>4,ROUND((1+((AI7-4)/4*0.25))*AA7,0),AA7)) -> 386 | AR7: =IF(AB7<0,0,IF(AJ7>4,ROUND((1+((AJ7-4)/4*0.25))*AB7,0),AB7)) -> 389 | AS7: =IF(AC7<0,0,IF(AK7>4,ROUND((1+((AK7-4)/4*0.25))*AC7,0),AC7)) -> 381 | AT7: =IF(AD7<0,0,IF(AL7>4,ROUND((1+((AL7-4)/4*0.25))*AD7,0),AD7)) -> 539 | AU7: =IF(AE7<0,0,IF(AM7>4,ROUND((1+((AM7-4)/4*0.25))*AE7,0),AE7)) -> 538 | AV7: =IF(AF7<0,0,IF(AN7>4,ROUND((1+((AN7-4)/4*0.25))*AF7,0),AF7)) -> 523 | AW7: =IF(AG7<0,0,IF(AO7>4,ROUND((1+((AO7-4)/4*0.25))*AG7,0),AG7)) -> 506 | AX7: =IF(AH7<0,0,IF(AP7>4,ROUND((1+((AP7-4)/4*0.25))*AH7,0),AH7)) -> 495 | AY7: =IF(AA7<0,0,IF(K7="-",MIN((MAX(J7, AA7)+((MAX(J7, AA7))*0.4)),AQ7),MIN(K7+(K7*0.4),AQ7))) -> 386 | AZ7: =IF(AB7<0,0,IF(L7="-",MIN((MAX(J7, AB7)+((MAX(J7, AB7))*0.4)),AR7),MIN(L7+(L7*0.4),AR7))) -> 389 | BA7: =IF(AC7<0,0,IF(M7="-",MIN((MAX(J7, AC7)+((MAX(J7, AC7))*0.4)),AS7),MIN(M7+(M7*0.4),AS7))) -> 381 | BB7: =IF(AD7<0,0,IF(N7="-",MIN((MAX(J7, AD7)+((MAX(J7, AD7))*0.4)),AT7),MIN(N7+(N7*0.4),AT7))) -> 539 | BC7: =IF(AE7<0,0,IF(O7="-",MIN((MAX(J7, AE7)+((MAX(J7, AE7))*0.4)),AU7),MIN(O7+(O7*0.4),AU7))) -> 538 | BD7: =IF(AF7<0,0,IF(P7="-",MIN((MAX(J7, AF7)+((MAX(J7, AF7))*0.4)),AV7),MIN(P7+(P7*0.4),AV7))) -> 523 | BE7: =IF(AG7<0,0,IF(Q7="-",MIN((MAX(J7, AG7)+((MAX(J7, AG7))*0.4)),AW7),MIN(Q7+(Q7*0.4),AW7))) -> 506 | BF7: =IF(AH7<0,0,IF(R7="-",MIN((MAX(J7, AH7)+((MAX(J7, AH7))*0.4)),AX7),MIN(R7+(R7*0.4),AX7))) -> 495 | BG7: =AY7*VLOOKUP($B7,'Major Cities & Towns'!$A$28:$B$345,2,FALSE) -> 386 | BH7: =AZ7*VLOOKUP($B7,'Major Cities & Towns'!$A$28:$B$345,2,FALSE) -> 389 | BI7: =BA7*VLOOKUP($B7,'Major Cities & Towns'!$A$28:$B$345,2,FALSE) -> 381 | BJ7: =BB7*VLOOKUP($B7,'Major Cities & Towns'!$A$28:$B$345,2,FALSE) -> 539 | BK7: =BC7*VLOOKUP($B7,'Major Cities & Towns'!$A$28:$B$345,2,FALSE) -> 538 | BL7: =BD7*VLOOKUP($B7,'Major Cities & Towns'!$A$28:$B$345,2,FALSE) -> 523 | BM7: =BE7*VLOOKUP($B7,'Major Cities & Towns'!$A$28:$B$345,2,FALSE) -> 506 | BN7: =BF7*VLOOKUP($B7,'Major Cities & Towns'!$A$28:$B$345,2,FALSE) -> 495 | BO7: =IFERROR(IF(AND(S7<365,S7>0),SUM(((S7/365)*(MIN(K7,BG7)))+(((365-S7)/365)*AQ7)),(MIN(K7,AQ7))),AQ7) -> 386 | BP7: =IFERROR(IF(AND(T7<365,T7>0),SUM(((T7/365)*(MIN(L7,BH7)))+(((365-T7)/365)*AR7)),(MIN(L7,AR7))),AR7) -> 389 | BQ7: =IFERROR(IF(AND(U7<365,U7>0),SUM(((U7/365)*(MIN(M7,BI7)))+(((365-U7)/365)*AS7)),(MIN(M7,AS7))),AS7) -> 381 | BR7: =IFERROR(IF(AND(V7<365,V7>0),SUM(((V7/365)*(MIN(N7,BJ7)))+(((365-V7)/365)*AT7)),(MIN(N7,AT7))),AT7) -> 539 | BS7: =IFERROR(IF(AND(W7<365,W7>0),SUM(((W7/365)*(MIN(O7,BK7)))+(((365-W7)/365)*AU7)),(MIN(O7,AU7))),AU7) -> 538 | BT7: =IFERROR(IF(AND(X7<365,X7>0),SUM(((X7/365)*(MIN(P7,BL7)))+(((365-X7)/365)*AV7)),(MIN(P7,AV7))),AV7) -> 523 | BU7: =IFERROR(IF(AND(Y7<365,Y7>0),SUM(((Y7/365)*(MIN(Q7,BM7)))+(((365-Y7)/365)*AW7)),(MIN(Q7,AW7))),AW7) -> 506 | BV7: =IFERROR(IF(AND(Z7<365,Z7>0),SUM(((Z7/365)*(MIN(R7,BN7)))+(((365-Z7)/365)*AX7)),(MIN(R7,AX7))),AX7) -> 495 | BW7: =VLOOKUP($A7,NetAdditions!$A$2:$H$336,6,FALSE) -> 594 | BX7: =VLOOKUP($A7,NetAdditions!$A$2:$H$336,7,FALSE) -> 458 | BY7: =IF((VLOOKUP($C7,NetAdditions!$A$2:$H$336,8,FALSE))="",(AVERAGE(VLOOKUP($C7,NetAdditions!$A$2:$H$336,5,FALSE),VLOOKUP($C7,NetAdditions!$A$2:$H$336,6,FALSE),VLOOKUP($C7,NetAdditions!$A$2:$H$336,7,FALSE))),VLOOKUP($C7,NetAdditions!$A$2:$H$336,8,FALSE)) -> 509 | BZ7: =AVERAGE(BW7:BY7) -> 520.33333 | CA7: =AVERAGE(BX7:BZ7) -> 495.77778 | CB7: =AVERAGE(BY7:CA7) -> 508.37037 | CC7: =AVERAGE(BZ7:CB7) -> 508.16049 | CD7: =AVERAGE(CA7:CC7) -> 504.10288 | CE7: =SUM(BO7:BQ7) -> 1156 | CF7: =SUM(BP7:BR7) -> 1309 | CG7: =SUM(BQ7:BS7) -> 1458 | CH7: =SUM(BR7:BT7) -> 1600 | CI7: =SUM(BS7:BU7) -> 1567 | CJ7: =SUM(BT7:BV7) -> 1524 | CK7: =CE7*((24+7)/36) -> 995.44444 | CL7: =CF7*((24+7)/36) -> 1127.1944 | CM7: =CG7*((24+9)/36) -> 1336.5 | CN7: =CH7 -> 1600 | CO7: =CI7 -> 1567 | CP7: =CJ7 -> 1524 | CQ7: =SUM(BW7:BY7) -> 1561 | CR7: =SUM(BX7:BZ7) -> 1487.3333 | CS7: =SUM(BY7:CA7) -> 1525.1111 | CT7: =SUM(BZ7:CB7) -> 1524.4815 | CU7: =SUM(CA7:CC7) -> 1512.3086 | CV7: =SUM(CB7:CD7) -> 1520.6337 | CW7: =IFERROR(CQ7/CK7,"-") -> 1.5681438 | CX7: =IF(CW7<0.25, "Presumption", IF(CW7<0.85, "Buffer and Action Plan", IF(CW7<0.95, "Action Plan", "Pass"))) -> Pass | CY7: =IFERROR(CR7/CL7,"-") -> 1.3195002 | CZ7: =IF(CY7<0.45, "Presumption", IF(CY7<0.85, "Buffer and Action Plan", IF(CY7<0.95, "Action Plan", "Pass"))) -> Pass | DA7: =IFERROR(CS7/CM7,"-") -> 1.1411232 | DB7: =IF(DA7<0.75, "Presumption", IF(DA7<0.85, "Buffer and Action Plan", IF(DA7<0.95, "Action Plan", "Pass"))) -> Pass | DC7: =IFERROR(CT7/CN7,"-") -> 0.95280093 | DD7: =IF(DC7<0.75, "Presumption", IF(DC7<0.85, "Buffer and Action Plan", IF(DC7<0.95, "Action Plan", "Pass"))) -> Pass | DE7: =IFERROR(CU7/CO7,"-") -> 0.96509805 | DF7: =IF(DE7<0.75, "Presumption", IF(DE7<0.85, "Buffer and Action Plan", IF(DE7<0.95, "Action Plan", "Pass"))) -> Pass | DG7: =IFERROR(CV7/CP7,"-") -> 0.99779117 | DH7: =IF(DG7<0.75, "Presumption", IF(DG7<0.85, "Buffer and Action Plan", IF(DG7<0.95, "Action Plan", "Pass"))) -> Pass
